BEGIN:VCALENDAR
VERSION:2.0
PRODID:-//FCSI The Americas - ECPv6.15.20//NONSGML v1.0//EN
CALSCALE:GREGORIAN
METHOD:PUBLISH
X-WR-CALNAME:FCSI The Americas
X-ORIGINAL-URL:https://fcsita.org
X-WR-CALDESC:Events for FCSI The Americas
REFRESH-INTERVAL;VALUE=DURATION:PT1H
X-Robots-Tag:noindex
X-PUBLISHED-TTL:PT1H
BEGIN:VTIMEZONE
TZID:America/New_York
BEGIN:DAYLIGHT
TZOFFSETFROM:-0500
TZOFFSETTO:-0400
TZNAME:EDT
DTSTART:20240310T070000
END:DAYLIGHT
BEGIN:STANDARD
TZOFFSETFROM:-0400
TZOFFSETTO:-0500
TZNAME:EST
DTSTART:20241103T060000
END:STANDARD
BEGIN:DAYLIGHT
TZOFFSETFROM:-0500
TZOFFSETTO:-0400
TZNAME:EDT
DTSTART:20250309T070000
END:DAYLIGHT
BEGIN:STANDARD
TZOFFSETFROM:-0400
TZOFFSETTO:-0500
TZNAME:EST
DTSTART:20251102T060000
END:STANDARD
BEGIN:DAYLIGHT
TZOFFSETFROM:-0500
TZOFFSETTO:-0400
TZNAME:EDT
DTSTART:20260308T070000
END:DAYLIGHT
BEGIN:STANDARD
TZOFFSETFROM:-0400
TZOFFSETTO:-0500
TZNAME:EST
DTSTART:20261101T060000
END:STANDARD
END:VTIMEZONE
BEGIN:VEVENT
DTSTART;TZID=America/New_York:20251101T080000
DTEND;TZID=America/New_York:20251128T160000
DTSTAMP:20260423T090446
CREATED:20241204T152821Z
LAST-MODIFIED:20241205T195259Z
UID:10000430-1761984000-1764345600@fcsita.org
SUMMARY:CaptiveAir Fan Fundamentals - From the Wright Brothers to Today (On-Demand)
DESCRIPTION:Know nothing about fans? Perfect! We’ll cover the most fundamental topics like pressure gradients and the fan laws to build your understanding of both Axial and Centrifugal fans. Don’t worry\, we make it fun with lots of demonstrations and animations\, while tying some of these concepts to the early days of aviation and even cows. Yes\, cows.\nFans excel at one simple job: moving air. Yet\, most people don’t really know how they do so\, and that’s ok! But if you’re not most people and want to learn about these neat machines\, you’re at the right place. \nPresenter Information\nBill Grifﬁn\, President of Engineering and Manufacturing – CaptiveAire Systems\, Inc. He is the President of Engineering and Manufacturing with CaptiveAire Systems\, the nation’s leading manufacturer of commercial kitchen ventilation systems. Bill began working in the HVAC industry at CaptiveAire in 1999\, immediately after graduating from the University of Maryland with a bachelor’s degree in Mechanical Engineering. Bill began as a draftsman with CaptiveAire and advanced within the company to overseeing all of manufacturing and\nengineering. For over 20 years\, his career has focused on the design\, development\, manufacturing and improvement of products. Bill is a licensed Professional Engineer in the state of Pennsylvania and holds 7 patents for products in the kitchen ventilation and HVAC industry. \nGerman Tabor\, Filmmaker – CaptiveAire Systems\, Inc.\nWith a decade of experience in ﬁlm and video production\, and a technical background in Aviation Maintenance encompassing hydraulic\, pneumatic\, climate control and electrical systems troubleshooting\, German Tabor is uniquely positioned to create effective and compelling engineering fundamentals videos. All of German’s videos are thoroughly reviewed by CaptiveAire engineers to ensure accuracy and the correct application of theories and\ncalculations. \nPrerequisite Knowledge: None.\nLearning Objective 1:\nUnderstand static and dynamic pressures\, as well as their relationship (Bernoulli’s principle).\nLearning Objective 2:\nUnderstand and apply the basic fan laws.\nLearning Objective 3:\nUnderstand the working principle of axial fans including HVLS\, Propeller\, Tubeaxial and Vaneaxial.\nLearning Objective 4:\nUnderstand the working principle of centrifugal fans of different designs and utilizing various impeller wheels. \nFor online access\, contact Mary Atwood mary.atwood@captiveaire.com
URL:https://fcsita.org/event/fan-fundamentals-from-the-wright-brothers-to-today-on-demand/2025-11-01/
LOCATION:Webinar
CATEGORIES:EPP Webinar - TA
ORGANIZER;CN="Mary Atwood":MAILTO:mary.atwood@captiveair.com
END:VEVENT
BEGIN:VEVENT
DTSTART;TZID=America/New_York:20251101T080000
DTEND;TZID=America/New_York:20251201T160000
DTSTAMP:20260423T090446
CREATED:20241119T164235Z
LAST-MODIFIED:20241205T195342Z
UID:10000442-1761984000-1764604800@fcsita.org
SUMMARY:Fan Performance Curves- A Deep Dive (On-Demand)
DESCRIPTION:Fan Performance Curves – A Deep Dive – 1 Hour Credit \nCourse Description:\nLet’s build a fan curve! We’ll start by collecting data on a real fan\, and then use the fan laws to extrapolate all the require data. Then we’ll use the curves to size up fans and motors\, and along the way we’ll look into eEiciency’s\, safety margins\, density\, and even system eEect. We condensed a wealth of knowledge into 1 video that connects all the dots. \nPrerequisite Knowledge:\nNone. \nPresenter Information\nBill Grifﬁn\, President of Engineering and Manufacturing – CaptiveAire Systems\, Inc.\nBill Grifﬁn is the President of Engineering and Manufacturing with CaptiveAire Systems\, the nation’s leading manufacturer of commercial kitchen ventilation systems. He began working in the HVAC industry at CaptiveAire in 1999\, immediately after graduating from the University of Maryland with a bachelor’s degree in Mechanical Engineering. Bill began as a draftsman with CaptiveAire and advanced within the company to overseeing all of manufacturing and engineering. For over 20 years\, his career has focused on the design\, development\,\nmanufacturing and improvement of products. Bill is a licensed Professional Engineer in the state of Pennsylvania and holds 7 patents for products in the kitchen ventilation and HVAC industry. \nGerman Tabor\, Filmmaker – CaptiveAire Systems\, Inc.\nWith a decade of experience in ﬁlm and video production\, and a technical background in Aviation Maintenance encompassing hydraulic\, pneumatic\, climate control and electrical systems troubleshooting\, German Tabor is uniquely positioned to create effective and compelling engineering fundamentals videos. All of German’s videos are thoroughly reviewed by CaptiveAire engineers to ensure accuracy and the correct application of theories and calculations.\n\nLearning Objective 1:\nUnderstand how a fan performance curve is built\, from data acquisition to extrapolation and visualization.\nLearning Objective 2:\nUnderstand how to use fan performance curves to correctly size fans and motors.\nLearning Objective 3:\nUnderstand Fan Energy Index and the major factors aEecting eEiciency.\nLearning Objective 4:\nUnderstand external variables such as density and system eEect and how to account for them. \nFor Online Access\, Contact Mary Atwood – mary.atwood@captiveair.com
URL:https://fcsita.org/event/fan-performance-curves/2025-11-01/
LOCATION:Webinar
CATEGORIES:EPP Webinar - TA
ORGANIZER;CN="Mary Atwood":MAILTO:mary.atwood@captiveair.com
END:VEVENT
BEGIN:VEVENT
DTSTART;TZID=America/New_York:20251103T130000
DTEND;TZID=America/New_York:20251103T140000
DTSTAMP:20260423T090446
CREATED:20251017T201814Z
LAST-MODIFIED:20251017T201814Z
UID:10001194-1762174800-1762178400@fcsita.org
SUMMARY:Baking Bread in a Rack Oven Webinar
DESCRIPTION:Provided by Revent & the Retail Bakers of America\n1 CEUs provided\n*Complimentary Registration for FCSI Members \nRunning out of space? Can’t afford a deck oven? Think you need one for real artisan bread?\nThis live demonstration will show you how one rack oven can handle your entire operation – from morning pastries to crusty sourdough loaves. No deck oven required.\nWatch sourdough\, baguettes\, and focaccia baked live in a rack oven. \nProgram: \nPart 1: Adapting Artisan Bread Techniques for Rack Ovens (20-30 minutes) Jen Heide\, Certified Bread Baker and Assistant Pastry Chef at the Everglades Club\, will share what bakers need to know about airflow\, heat transfer\, and steaming when baking artisan bread in rack ovens. \nPart 2: Artisan Bread Baking Demo (20-30 minutes) Michael Landman\, Test Baker at Revent\, will bake sourdough loaves\, baguettes\, and focaccia live in the ONE39 rack oven\, followed by Q&A. \nAttendees can earn FCSI (Foodservice Consultants Society International) continuing education credits. \nRegistration: Free for RBA members | $30 for non-members\nRegister HERE \nFCSI Members – to request the complimentary registration please contact Sophie Boczek at sophie@retailbakersofamerica.org \n 
URL:https://fcsita.org/event/baking-bread-in-a-rack-oven-webinar/
LOCATION:Webinar
CATEGORIES:EPP Set Date Events - TA,EPP Webinar - TA
ORGANIZER;CN="Daniel Florencio":MAILTO:df@revent.com
END:VEVENT
END:VCALENDAR