BEGIN:VCALENDAR
VERSION:2.0
PRODID:-//FCSI The Americas - ECPv6.15.20//NONSGML v1.0//EN
CALSCALE:GREGORIAN
METHOD:PUBLISH
X-WR-CALNAME:FCSI The Americas
X-ORIGINAL-URL:https://fcsita.org
X-WR-CALDESC:Events for FCSI The Americas
REFRESH-INTERVAL;VALUE=DURATION:PT1H
X-Robots-Tag:noindex
X-PUBLISHED-TTL:PT1H
BEGIN:VTIMEZONE
TZID:America/New_York
BEGIN:DAYLIGHT
TZOFFSETFROM:-0500
TZOFFSETTO:-0400
TZNAME:EDT
DTSTART:20250309T070000
END:DAYLIGHT
BEGIN:STANDARD
TZOFFSETFROM:-0400
TZOFFSETTO:-0500
TZNAME:EST
DTSTART:20251102T060000
END:STANDARD
BEGIN:DAYLIGHT
TZOFFSETFROM:-0500
TZOFFSETTO:-0400
TZNAME:EDT
DTSTART:20260308T070000
END:DAYLIGHT
BEGIN:STANDARD
TZOFFSETFROM:-0400
TZOFFSETTO:-0500
TZNAME:EST
DTSTART:20261101T060000
END:STANDARD
BEGIN:DAYLIGHT
TZOFFSETFROM:-0500
TZOFFSETTO:-0400
TZNAME:EDT
DTSTART:20270314T070000
END:DAYLIGHT
BEGIN:STANDARD
TZOFFSETFROM:-0400
TZOFFSETTO:-0500
TZNAME:EST
DTSTART:20271107T060000
END:STANDARD
END:VTIMEZONE
BEGIN:VEVENT
DTSTART;VALUE=DATE:20260126
DTEND;VALUE=DATE:20260128
DTSTAMP:20260422T235136
CREATED:20260116T182913Z
LAST-MODIFIED:20260116T195104Z
UID:10001237-1769385600-1769558399@fcsita.org
SUMMARY:MAINS: Fundamentals
DESCRIPTION:Provided by Middleby\n10 CEUs available \nThe MAINS Fundamentals session is designed for those who are new to the consulting world or lack formal kitchen experience. This comprehensive course introduces the essentials of various common kitchen appliances and cooking equipment. Topics include combination ovens\, steam equipment\, fryers\, conveyor\ncooking systems\, induction cooktops\, ventless equipment\, and the diverse range of convection ovens available in the market.\nParticipants will engage in both classroom-style learning and hands-on cooking activities with the equipment. To reinforce their skills and apply their newfound knowledge in a practical setting\, attendees will\nalso take part in an exciting cooking competition. \nMAINS Fundamentals Training Details and Registration Page –\nhttps://solutions.middleby.com/mains-2026-fundamentals-jan-26-27-consultants \n 
URL:https://fcsita.org/event/mains-fundamentals/
LOCATION:Middleby Innovation Kitchens\, 2701 E State Highway 121\, Business Suite 600\, Lewisville\, TX
CATEGORIES:EPP Set Date Events - TA
ORGANIZER;CN="Meghan Daro":MAILTO:mdaro@middleby.com
END:VEVENT
BEGIN:VEVENT
DTSTART;VALUE=DATE:20260127
DTEND;VALUE=DATE:20260129
DTSTAMP:20260422T235136
CREATED:20260116T185614Z
LAST-MODIFIED:20260116T185614Z
UID:10001242-1769472000-1769644799@fcsita.org
SUMMARY:Beolter Consultant Services Event
DESCRIPTION:Provided by Boelter Foodservie Design\, Equipment & Supply\n7.25 CEUs available \nAgenda_Boelter Consultant at MIK \nTo register\, contact Carly Sadd at csadd@boelter.com
URL:https://fcsita.org/event/beolter-consultant-services-event/
LOCATION:Middleby Innovation Kitchens\, 2701 E State Highway 121\, Business Suite 600\, Lewisville\, TX
CATEGORIES:EPP Set Date Events - TA
ORGANIZER;CN="Carly Sadd":MAILTO:csadd@boelter.com
END:VEVENT
END:VCALENDAR