BEGIN:VCALENDAR
VERSION:2.0
PRODID:-//FCSI The Americas - ECPv6.15.20//NONSGML v1.0//EN
CALSCALE:GREGORIAN
METHOD:PUBLISH
X-WR-CALNAME:FCSI The Americas
X-ORIGINAL-URL:https://fcsita.org
X-WR-CALDESC:Events for FCSI The Americas
REFRESH-INTERVAL;VALUE=DURATION:PT1H
X-Robots-Tag:noindex
X-PUBLISHED-TTL:PT1H
BEGIN:VTIMEZONE
TZID:America/Chicago
BEGIN:DAYLIGHT
TZOFFSETFROM:-0600
TZOFFSETTO:-0500
TZNAME:CDT
DTSTART:20250309T080000
END:DAYLIGHT
BEGIN:STANDARD
TZOFFSETFROM:-0500
TZOFFSETTO:-0600
TZNAME:CST
DTSTART:20251102T070000
END:STANDARD
BEGIN:DAYLIGHT
TZOFFSETFROM:-0600
TZOFFSETTO:-0500
TZNAME:CDT
DTSTART:20260308T080000
END:DAYLIGHT
BEGIN:STANDARD
TZOFFSETFROM:-0500
TZOFFSETTO:-0600
TZNAME:CST
DTSTART:20261101T070000
END:STANDARD
BEGIN:DAYLIGHT
TZOFFSETFROM:-0600
TZOFFSETTO:-0500
TZNAME:CDT
DTSTART:20270314T080000
END:DAYLIGHT
BEGIN:STANDARD
TZOFFSETFROM:-0500
TZOFFSETTO:-0600
TZNAME:CST
DTSTART:20271107T070000
END:STANDARD
END:VTIMEZONE
BEGIN:VEVENT
DTSTART;TZID=America/Chicago:20260218T110000
DTEND;TZID=America/Chicago:20260218T120000
DTSTAMP:20260422T235137
CREATED:20260106T214414Z
LAST-MODIFIED:20260106T214414Z
UID:10001223-1771412400-1771416000@fcsita.org
SUMMARY:Complaints Are Gifts: How to Turn Feedback into Loyalty
DESCRIPTION:Provided by the National Restaurant Show by Informa\n.75 CEU available \nGuest complaints are more than just challenges—they’re opportunities to strengthen your business\, build trust\, and foster lasting loyalty. Learn how to transform critical feedback into actionable insights that drive growth and improve guest satisfaction. By focusing on compassion\, structured processes\, and team collaboration\, you’ll gain the tools to turn negative experiences into positive outcomes. This session will empower you to protect your reputation\, enhance guest retention\, and create a culture of care that benefits both your customers and your team. Don’t miss this chance to turn complaints into a competitive advantage for your business.\n \nREGISTER
URL:https://fcsita.org/event/complaints-are-gifts-how-to-turn-feedback-into-loyalty/
LOCATION:Webinar
CATEGORIES:EPP Set Date Events - TA,EPP Webinar - TA
ORGANIZER;CN="Deryn Fink":MAILTO:deryn.fink@informa.com
END:VEVENT
END:VCALENDAR