BEGIN:VCALENDAR
VERSION:2.0
PRODID:-//FCSI The Americas - ECPv6.15.20//NONSGML v1.0//EN
CALSCALE:GREGORIAN
METHOD:PUBLISH
X-WR-CALNAME:FCSI The Americas
X-ORIGINAL-URL:https://fcsita.org
X-WR-CALDESC:Events for FCSI The Americas
REFRESH-INTERVAL;VALUE=DURATION:PT1H
X-Robots-Tag:noindex
X-PUBLISHED-TTL:PT1H
BEGIN:VTIMEZONE
TZID:America/New_York
BEGIN:DAYLIGHT
TZOFFSETFROM:-0500
TZOFFSETTO:-0400
TZNAME:EDT
DTSTART:20250309T070000
END:DAYLIGHT
BEGIN:STANDARD
TZOFFSETFROM:-0400
TZOFFSETTO:-0500
TZNAME:EST
DTSTART:20251102T060000
END:STANDARD
BEGIN:DAYLIGHT
TZOFFSETFROM:-0500
TZOFFSETTO:-0400
TZNAME:EDT
DTSTART:20260308T070000
END:DAYLIGHT
BEGIN:STANDARD
TZOFFSETFROM:-0400
TZOFFSETTO:-0500
TZNAME:EST
DTSTART:20261101T060000
END:STANDARD
BEGIN:DAYLIGHT
TZOFFSETFROM:-0500
TZOFFSETTO:-0400
TZNAME:EDT
DTSTART:20270314T070000
END:DAYLIGHT
BEGIN:STANDARD
TZOFFSETFROM:-0400
TZOFFSETTO:-0500
TZNAME:EST
DTSTART:20271107T060000
END:STANDARD
END:VTIMEZONE
BEGIN:VEVENT
DTSTART;TZID=America/New_York:20260219T100000
DTEND;TZID=America/New_York:20260219T120000
DTSTAMP:20260422T235141
CREATED:20260130T222231Z
LAST-MODIFIED:20260202T233757Z
UID:10001252-1771495200-1771502400@fcsita.org
SUMMARY:Menu for Success 2026: Foodservice Industry Trends\, Technologies & Forecasts
DESCRIPTION:Provided by Frontier Energy\, Food Service Tech Center\, PG&E and California Energy Wise (CEW)\n3 CEUs available \nThe foodservice industry continues to evolve rapidly\, shaped by regulatory changes\, workforce challenges\, shifting consumer behavior\, and rising operational costs. In 2026\, California operators must remain agile — embracing energy-efficient technologies\, smarter kitchen design\, and innovative business strategies to stay competitive and profitable. \nJoin industry leaders Richard Young (Frontier Energy)\, Robin Ashton (Ashton Foodservice Consulting & The Ashton Report)\, and Jot Condie (California Restaurant Association) as they break down the newest trends\, economic drivers\, emerging technologies\, and market forces that will define the future of foodservice. This session will help operators and industry professionals plan strategically for the year ahead. \nLearning Objectives: \nParticipants will be able to: \n\nIdentify key national and California-specific trends influencing equipment choices\, operational strategies\, and business models in 2026.\nExplain how economic\, market\, and consumer behavior shifts — both domestic and global — are shaping the foodservice industry’s direction.\nLeverage available utility programs\, incentives\, and services to support the adoption of high-efficiency equipment and reduce operating costs.\n\nAgenda: \n10:00am                          Class Starts\n10:00am – 10:10am         Welcome/Safety/CEW/IR\n10:10am – 10:30am         2026 Foodservice Trends & Market                                                                                      Forces\n10-30am – 10:50am         Economic & Regulatory Impacts in                                                                                     California\n10:50am – 11:10am         Updates on Decarbonization &                                                                                             Electrification\n11:15am – 11:45am         Panel Discussion: Strategies for Success                                                                              in 2026\n11:45am – 12:00pm         Audience Q&A & Key Takeaways\n12:00pm – 12:45pm         Adjourn\n1:00pm – 2:00pm             Lunch/Equipment Demonstration (in-                                                                                               person) \nREGISTER
URL:https://fcsita.org/event/menu-for-success-2026-foodservice-industry-trends-technologies-forecasts/
LOCATION:Food Service Technology Center\, 1075 Serpentine Ln\, Suite B\, Pleasanton\, CA\, 94566
CATEGORIES:EPP Set Date Events - TA
ORGANIZER;CN="Ariana Catanjal-Cueva":MAILTO:acatanjal-cueva@frontierenergy.com
END:VEVENT
END:VCALENDAR