BEGIN:VCALENDAR
VERSION:2.0
PRODID:-//FCSI The Americas - ECPv6.15.20//NONSGML v1.0//EN
CALSCALE:GREGORIAN
METHOD:PUBLISH
X-WR-CALNAME:FCSI The Americas
X-ORIGINAL-URL:https://fcsita.org
X-WR-CALDESC:Events for FCSI The Americas
REFRESH-INTERVAL;VALUE=DURATION:PT1H
X-Robots-Tag:noindex
X-PUBLISHED-TTL:PT1H
BEGIN:VTIMEZONE
TZID:America/Chicago
BEGIN:DAYLIGHT
TZOFFSETFROM:-0600
TZOFFSETTO:-0500
TZNAME:CDT
DTSTART:20250309T080000
END:DAYLIGHT
BEGIN:STANDARD
TZOFFSETFROM:-0500
TZOFFSETTO:-0600
TZNAME:CST
DTSTART:20251102T070000
END:STANDARD
BEGIN:DAYLIGHT
TZOFFSETFROM:-0600
TZOFFSETTO:-0500
TZNAME:CDT
DTSTART:20260308T080000
END:DAYLIGHT
BEGIN:STANDARD
TZOFFSETFROM:-0500
TZOFFSETTO:-0600
TZNAME:CST
DTSTART:20261101T070000
END:STANDARD
BEGIN:DAYLIGHT
TZOFFSETFROM:-0600
TZOFFSETTO:-0500
TZNAME:CDT
DTSTART:20270314T080000
END:DAYLIGHT
BEGIN:STANDARD
TZOFFSETFROM:-0500
TZOFFSETTO:-0600
TZNAME:CST
DTSTART:20271107T070000
END:STANDARD
END:VTIMEZONE
BEGIN:VEVENT
DTSTART;TZID=America/Chicago:20260319T110000
DTEND;TZID=America/Chicago:20260319T120000
DTSTAMP:20260422T233800
CREATED:20260211T182045Z
LAST-MODIFIED:20260212T152231Z
UID:10001255-1773918000-1773921600@fcsita.org
SUMMARY:Deep Dive - Steam Applications in Commercial Foodservice Operations
DESCRIPTION:Provided by Pentair/Everpure\n1 CEU available \nThe goal of this learning unit is to educatearchitects\, specifiers\, and designers on thecurrent issues\, concerns\, and influences onwater treatment for steam applications. Inaddition\, it will educate participants onsystems and solutions for water filtrationtreatment of steam equipment. \nRegister
URL:https://fcsita.org/event/deep-dive-steam-applications-in-commercial-foodservice-operations/
LOCATION:Webinar
CATEGORIES:EPP Set Date Events - TA,EPP Webinar - TA
ORGANIZER;CN="Keith Pennison":MAILTO:Keith.pennison@pentair.com
END:VEVENT
END:VCALENDAR