BEGIN:VCALENDAR
VERSION:2.0
PRODID:-//FCSI The Americas - ECPv6.15.20//NONSGML v1.0//EN
CALSCALE:GREGORIAN
METHOD:PUBLISH
X-ORIGINAL-URL:https://fcsita.org
X-WR-CALDESC:Events for FCSI The Americas
REFRESH-INTERVAL;VALUE=DURATION:PT1H
X-Robots-Tag:noindex
X-PUBLISHED-TTL:PT1H
BEGIN:VTIMEZONE
TZID:America/Los_Angeles
BEGIN:DAYLIGHT
TZOFFSETFROM:-0800
TZOFFSETTO:-0700
TZNAME:PDT
DTSTART:20250309T100000
END:DAYLIGHT
BEGIN:STANDARD
TZOFFSETFROM:-0700
TZOFFSETTO:-0800
TZNAME:PST
DTSTART:20251102T090000
END:STANDARD
BEGIN:DAYLIGHT
TZOFFSETFROM:-0800
TZOFFSETTO:-0700
TZNAME:PDT
DTSTART:20260308T100000
END:DAYLIGHT
BEGIN:STANDARD
TZOFFSETFROM:-0700
TZOFFSETTO:-0800
TZNAME:PST
DTSTART:20261101T090000
END:STANDARD
BEGIN:DAYLIGHT
TZOFFSETFROM:-0800
TZOFFSETTO:-0700
TZNAME:PDT
DTSTART:20270314T100000
END:DAYLIGHT
BEGIN:STANDARD
TZOFFSETFROM:-0700
TZOFFSETTO:-0800
TZNAME:PST
DTSTART:20271107T090000
END:STANDARD
END:VTIMEZONE
BEGIN:VEVENT
DTSTART;TZID=America/Los_Angeles:20260430T100000
DTEND;TZID=America/Los_Angeles:20260430T130000
DTSTAMP:20260422T182757
CREATED:20260316T214914Z
LAST-MODIFIED:20260316T214914Z
UID:10001282-1777543200-1777554000@fcsita.org
SUMMARY:From Manual to Modern: Enhancing Traditional Culinary Processes Through Advanced Kitchen Technologies
DESCRIPTION:Provided by SCE Foodservice Technology Center\n3 CEUs available \nThis course explores how advanced kitchen technologies can enhance traditional culinary processes to deliver higher performance\, streamline labor\, and increase profitability. Participants will be introduced to the capabilities of smart tilt skillets\, blast chillers\, vacuum-sealing tools\, and modern holding technologies with an emphasis on how these solutions complement established methods while improving consistency and workflow. The course will also demonstrate how these technologies facilitate food safety\, expand production\, and create new revenue opportunities. \nLearning Objectives: \nParticipants will be able to: \n\nExplain the core functions\, capabilities\, and benefits of smart tilt skillets\, blast chillers\, vacuum-sealing tools\, and modern holding technologies.\nIdentify how these technologies enhance food safety\, support labor savings\, and improve menu flexibility.\nEvaluate the energy and water efficiency considerations for each technology\nAssess appropriate applications\, sizing requirements\, and integration strategies for diverse foodservice environments—from K-12 and healthcare to full-service and high-volume operations.\nApply best practices for selecting\, operating\, and maintaining these technologies to maximize performance\, labor efficiency\, and overall return on investment.\n\nSpeakers:\nMark Duesler Consultant Chef Frontier Energy Food Service Tech Center \nTo register\, contact Andre Saldivar at Andre.Saldivar@sce.com
URL:https://fcsita.org/event/from-manual-to-modern-enhancing-traditional-culinary-processes-through-advanced-kitchen-technologies-2/
LOCATION:Southern California Edison – Foodservice Technology Center\, 6050 N. Irwindale Avenue\, Suite E\, Irwindale\, California\, 91702
CATEGORIES:EPP Set Date Events - TA
ORGANIZER;CN="Andre Saldivar":MAILTO:Andre.Saldivar@sce.com
END:VEVENT
END:VCALENDAR