BEGIN:VCALENDAR
VERSION:2.0
PRODID:-//FCSI The Americas - ECPv6.15.20//NONSGML v1.0//EN
CALSCALE:GREGORIAN
METHOD:PUBLISH
X-ORIGINAL-URL:https://fcsita.org
X-WR-CALDESC:Events for FCSI The Americas
REFRESH-INTERVAL;VALUE=DURATION:PT1H
X-Robots-Tag:noindex
X-PUBLISHED-TTL:PT1H
BEGIN:VTIMEZONE
TZID:America/New_York
BEGIN:DAYLIGHT
TZOFFSETFROM:-0500
TZOFFSETTO:-0400
TZNAME:EDT
DTSTART:20250309T070000
END:DAYLIGHT
BEGIN:STANDARD
TZOFFSETFROM:-0400
TZOFFSETTO:-0500
TZNAME:EST
DTSTART:20251102T060000
END:STANDARD
BEGIN:DAYLIGHT
TZOFFSETFROM:-0500
TZOFFSETTO:-0400
TZNAME:EDT
DTSTART:20260308T070000
END:DAYLIGHT
BEGIN:STANDARD
TZOFFSETFROM:-0400
TZOFFSETTO:-0500
TZNAME:EST
DTSTART:20261101T060000
END:STANDARD
BEGIN:DAYLIGHT
TZOFFSETFROM:-0500
TZOFFSETTO:-0400
TZNAME:EDT
DTSTART:20270314T070000
END:DAYLIGHT
BEGIN:STANDARD
TZOFFSETFROM:-0400
TZOFFSETTO:-0500
TZNAME:EST
DTSTART:20271107T060000
END:STANDARD
END:VTIMEZONE
BEGIN:VEVENT
DTSTART;VALUE=DATE:20260506
DTEND;VALUE=DATE:20260508
DTSTAMP:20260422T201214
CREATED:20260116T201356Z
LAST-MODIFIED:20260116T201356Z
UID:10001247-1778025600-1778198399@fcsita.org
SUMMARY:Hatco University
DESCRIPTION:12.5 CEUs available \nThe overall objective of our training is to educate on Food Warming\, Light Cooking\, Hot/Cold Wells\, Hot/Cold Shelves\, Humidified Cabinets\, Lockers\, Water Heating\, Merchandisers\, Drawer Warmers\, Toasters\, Sneeze Guards and their applications in foodservice. We present and discuss the basics and history of each category\, the rules and restrictions that need to be adhered to meet NSF and UL guidelines. The class will also have hands-on interaction with the different types of products. We will also cover items such as the different options and accessories that can improve the efficiency of each product in its application.\nWe will tour of our factory/ This will allow the consultants to see the end-to-end manufacturing process of each product category. We will finish the event with a final exam of the product knowledge they have attained. \nAgenda \nTo register\, contact Raoul Cervantes at rcervantes@hatcocorp.com or 802.477.3378
URL:https://fcsita.org/event/hatco-university-2/2026-05-06/
LOCATION:Hatco University\, 208 E. Deck St.\, Sturgeon Bay\, WI\, 54235\, United States
CATEGORIES:EPP Set Date Events - TA
ORGANIZER;CN="Raoul Cervantes":MAILTO:rcervantes@hatcocorp.com
END:VEVENT
BEGIN:VEVENT
DTSTART;TZID=America/New_York:20260506T080000
DTEND;TZID=America/New_York:20260506T090000
DTSTAMP:20260422T201214
CREATED:20241213T171736Z
LAST-MODIFIED:20241213T171736Z
UID:10000663-1778054400-1778058000@fcsita.org
SUMMARY:Modern Kitchen Ventilation Engineering & Design (On Demand)
DESCRIPTION:Brought to you by CaptiveAire Systems Inc.\nThis course is worth 1 CEU. \nPrerequisite Knowledge: None\nLearning Objective 1: Understand kitchen ventilation design with code requirements in regards to fire protection and the proper prevention and maintenance needed to reduce risks\nLearning Objective 2: Overview of history of indoor environmental quality and the technology as it relates to building ventilation systems\nLearning Objective 3: Recognizing need for new technologies to address customer/building issues in regards to exhaust\, humidity and filtration\nLearning Objective 4: Understand the need for total system integration when it comes to building design \nFor access\, contact Mary Atwood – mary.atwood@captiveaire.com\n720-772-9971
URL:https://fcsita.org/event/modern-kitchen-ventilation-engineering-design-on-demand/2026-05-06/
CATEGORIES:EPP Webinar - TA
END:VEVENT
END:VCALENDAR