BEGIN:VCALENDAR
VERSION:2.0
PRODID:-//FCSI The Americas - ECPv6.15.20//NONSGML v1.0//EN
CALSCALE:GREGORIAN
METHOD:PUBLISH
X-ORIGINAL-URL:https://fcsita.org
X-WR-CALDESC:Events for FCSI The Americas
REFRESH-INTERVAL;VALUE=DURATION:PT1H
X-Robots-Tag:noindex
X-PUBLISHED-TTL:PT1H
BEGIN:VTIMEZONE
TZID:America/New_York
BEGIN:DAYLIGHT
TZOFFSETFROM:-0500
TZOFFSETTO:-0400
TZNAME:EDT
DTSTART:20250309T070000
END:DAYLIGHT
BEGIN:STANDARD
TZOFFSETFROM:-0400
TZOFFSETTO:-0500
TZNAME:EST
DTSTART:20251102T060000
END:STANDARD
BEGIN:DAYLIGHT
TZOFFSETFROM:-0500
TZOFFSETTO:-0400
TZNAME:EDT
DTSTART:20260308T070000
END:DAYLIGHT
BEGIN:STANDARD
TZOFFSETFROM:-0400
TZOFFSETTO:-0500
TZNAME:EST
DTSTART:20261101T060000
END:STANDARD
BEGIN:DAYLIGHT
TZOFFSETFROM:-0500
TZOFFSETTO:-0400
TZNAME:EDT
DTSTART:20270314T070000
END:DAYLIGHT
BEGIN:STANDARD
TZOFFSETFROM:-0400
TZOFFSETTO:-0500
TZNAME:EST
DTSTART:20271107T060000
END:STANDARD
END:VTIMEZONE
BEGIN:VEVENT
DTSTART;TZID=America/New_York:20260521T110000
DTEND;TZID=America/New_York:20260521T120000
DTSTAMP:20260422T201216
CREATED:20260410T154319Z
LAST-MODIFIED:20260410T154319Z
UID:10001296-1779361200-1779364800@fcsita.org
SUMMARY:How to Design a Bar Using the Cocktail Life Cycle
DESCRIPTION:Provided by Glastender\n1 CEU available \nHow to use the Cocktail Life Cycle to effectively design and implement the most efficient bar layout for work flow\, ergonomics\, and profitability. What are the areas in the bar that cause the most issues with production. What are the recent trends in the bar scene. \nTo register\, contact Jay Bravinder at jbravinder@glastender.com or\n612-991-6505. \n 
URL:https://fcsita.org/event/how-to-design-a-bar-using-the-cocktail-life-cycle/
LOCATION:Webinar
CATEGORIES:EPP Set Date Events - TA
ORGANIZER;CN="Jay Bravinder":MAILTO:jbravinder@glastender.com
END:VEVENT
END:VCALENDAR