BEGIN:VCALENDAR
VERSION:2.0
PRODID:-//FCSI The Americas - ECPv6.15.20//NONSGML v1.0//EN
CALSCALE:GREGORIAN
METHOD:PUBLISH
X-WR-CALNAME:FCSI The Americas
X-ORIGINAL-URL:https://fcsita.org
X-WR-CALDESC:Events for FCSI The Americas
REFRESH-INTERVAL;VALUE=DURATION:PT1H
X-Robots-Tag:noindex
X-PUBLISHED-TTL:PT1H
BEGIN:VTIMEZONE
TZID:America/New_York
BEGIN:DAYLIGHT
TZOFFSETFROM:-0500
TZOFFSETTO:-0400
TZNAME:EDT
DTSTART:20250309T070000
END:DAYLIGHT
BEGIN:STANDARD
TZOFFSETFROM:-0400
TZOFFSETTO:-0500
TZNAME:EST
DTSTART:20251102T060000
END:STANDARD
BEGIN:DAYLIGHT
TZOFFSETFROM:-0500
TZOFFSETTO:-0400
TZNAME:EDT
DTSTART:20260308T070000
END:DAYLIGHT
BEGIN:STANDARD
TZOFFSETFROM:-0400
TZOFFSETTO:-0500
TZNAME:EST
DTSTART:20261101T060000
END:STANDARD
BEGIN:DAYLIGHT
TZOFFSETFROM:-0500
TZOFFSETTO:-0400
TZNAME:EDT
DTSTART:20270314T070000
END:DAYLIGHT
BEGIN:STANDARD
TZOFFSETFROM:-0400
TZOFFSETTO:-0500
TZNAME:EST
DTSTART:20271107T060000
END:STANDARD
END:VTIMEZONE
BEGIN:VTIMEZONE
TZID:America/Chicago
BEGIN:DAYLIGHT
TZOFFSETFROM:-0600
TZOFFSETTO:-0500
TZNAME:CDT
DTSTART:20250309T080000
END:DAYLIGHT
BEGIN:STANDARD
TZOFFSETFROM:-0500
TZOFFSETTO:-0600
TZNAME:CST
DTSTART:20251102T070000
END:STANDARD
BEGIN:DAYLIGHT
TZOFFSETFROM:-0600
TZOFFSETTO:-0500
TZNAME:CDT
DTSTART:20260308T080000
END:DAYLIGHT
BEGIN:STANDARD
TZOFFSETFROM:-0500
TZOFFSETTO:-0600
TZNAME:CST
DTSTART:20261101T070000
END:STANDARD
BEGIN:DAYLIGHT
TZOFFSETFROM:-0600
TZOFFSETTO:-0500
TZNAME:CDT
DTSTART:20270314T080000
END:DAYLIGHT
BEGIN:STANDARD
TZOFFSETFROM:-0500
TZOFFSETTO:-0600
TZNAME:CST
DTSTART:20271107T070000
END:STANDARD
END:VTIMEZONE
BEGIN:VEVENT
DTSTART;VALUE=DATE:20260615
DTEND;VALUE=DATE:20260618
DTSTAMP:20260422T235049
CREATED:20260306T203835Z
LAST-MODIFIED:20260306T203835Z
UID:10001280-1781481600-1781740799@fcsita.org
SUMMARY:Spring 2026 FWE/Ovention Consultant Seminar
DESCRIPTION:Provided by FWE & Ovention\n12 CEUs available \nThis event will provide knowledge of various heating\, holding and transport systems along with innovative ventless cooking technologies to assist in designing future client projects.  We will review construction and design and fast service methods\, which will allow future FCSI clients to deliver meals efficiently\, safely and at top quality.  Categories that will be covered include Ventless Speed Cooking\, Advanced Finishing Techniques\, Low Temperature Cooking\, Precision Holding\, Serving Equipment and Specialized Refrigeration & Transport.  We will close the evening with a Chef hosted\, behind the scenes educational tour at Nashville’s hottest small batch bakery\, “The Buttermilk Ranch”\, where Executive Chef and Co-Owner Alyssa Gangeri will discuss: What it means to be a small batch bakery\, what top issues are currently faced by the food service industry and how the right equipment can make or break a restaurant. \nFor more details and to register\, contact Travis Hartley at thartley@fweco.net
URL:https://fcsita.org/event/spring-2026-fwe-ovention-consultant-seminar/
LOCATION:Hyatt Place Nashville Downtown\, 301 3rd Avenue South\, Nashville\, TN
CATEGORIES:EPP Set Date Events - TA
ORGANIZER;CN="Travis Hartley":MAILTO:t-hartley@fweco.net
END:VEVENT
BEGIN:VEVENT
DTSTART;VALUE=DATE:20260616
DTEND;VALUE=DATE:20260618
DTSTAMP:20260422T235049
CREATED:20260210T214736Z
LAST-MODIFIED:20260210T214736Z
UID:10001254-1781568000-1781740799@fcsita.org
SUMMARY:Custom Fabrication - Turning Visions Into Reality
DESCRIPTION:Provided by Eagle Group\n5 CEUs available \nThe consultants who attend will be able to grasp how fabrication techniques have advanced through the years\, this includes the use of both lasers and robotics in manufacturing. They will understand what materials make up stainless steel\, what NSF considers food grade materials. How the engineering process works and how it ties to the manufacturing process by computer. \nTo register\, contract Justin Clough at jclough@eaglegrp.com.
URL:https://fcsita.org/event/custom-fabrication-turning-visions-into-reality/
LOCATION:Eagle Group\, 100 Industrial Blvd.\, Clayton\, DE\, 19938\, United States
CATEGORIES:EPP Set Date Events - TA
ORGANIZER;CN="Justin Clough":MAILTO:jclough@eaglegrp.com
END:VEVENT
BEGIN:VEVENT
DTSTART;VALUE=DATE:20260617
DTEND;VALUE=DATE:20260619
DTSTAMP:20260422T235049
CREATED:20250131T152537Z
LAST-MODIFIED:20260116T200226Z
UID:10001243-1781683200-1781818200@fcsita.org
SUMMARY:Hatco University
DESCRIPTION:12.5 CEUs available \nThe overall objective of our training is to educate on Food Warming\, Light Cooking\, Hot/Cold Wells\, Hot/Cold Shelves\, Humidified Cabinets\, Lockers\, Water Heating\, Merchandisers\, Drawer Warmers\, Toasters\, Sneeze Guards and their applications in foodservice. We present and discuss the basics and history of each category\, the rules and restrictions that need to be adhered to meet NSF and UL guidelines. The class will also have hands-on interaction with the different types of products. We will also cover items such as the different options and accessories that can improve the efficiency of each product in its application.\nWe will tour of our factory/ This will allow the consultants to see the end-to-end manufacturing process of each product category. We will finish the event with a final exam of the product knowledge they have attained. \nAgenda \nTo register\, contact Raoul Cervantes at rcervantes@hatcocorp.com or 802.477.3378
URL:https://fcsita.org/event/hatco-university/2026-06-17/
LOCATION:Hatco University\, 208 E. Deck St.\, Sturgeon Bay\, WI\, 54235\, United States
CATEGORIES:EPP Set Date Events - TA
ORGANIZER;CN="Raoul Cervantes":MAILTO:rcervantes@hatcocorp.com
END:VEVENT
BEGIN:VEVENT
DTSTART;VALUE=DATE:20260617
DTEND;VALUE=DATE:20260619
DTSTAMP:20260422T235049
CREATED:20260116T201356Z
LAST-MODIFIED:20260116T201356Z
UID:10001248-1781683200-1781818200@fcsita.org
SUMMARY:Hatco University
DESCRIPTION:12.5 CEUs available \nThe overall objective of our training is to educate on Food Warming\, Light Cooking\, Hot/Cold Wells\, Hot/Cold Shelves\, Humidified Cabinets\, Lockers\, Water Heating\, Merchandisers\, Drawer Warmers\, Toasters\, Sneeze Guards and their applications in foodservice. We present and discuss the basics and history of each category\, the rules and restrictions that need to be adhered to meet NSF and UL guidelines. The class will also have hands-on interaction with the different types of products. We will also cover items such as the different options and accessories that can improve the efficiency of each product in its application.\nWe will tour of our factory/ This will allow the consultants to see the end-to-end manufacturing process of each product category. We will finish the event with a final exam of the product knowledge they have attained. \nAgenda \nTo register\, contact Raoul Cervantes at rcervantes@hatcocorp.com or 802.477.3378
URL:https://fcsita.org/event/hatco-university-2/2026-06-17/
LOCATION:Hatco University\, 208 E. Deck St.\, Sturgeon Bay\, WI\, 54235\, United States
CATEGORIES:EPP Set Date Events - TA
ORGANIZER;CN="Raoul Cervantes":MAILTO:rcervantes@hatcocorp.com
END:VEVENT
END:VCALENDAR