BEGIN:VCALENDAR
VERSION:2.0
PRODID:-//FCSI The Americas - ECPv6.15.20//NONSGML v1.0//EN
CALSCALE:GREGORIAN
METHOD:PUBLISH
X-WR-CALNAME:FCSI The Americas
X-ORIGINAL-URL:https://fcsita.org
X-WR-CALDESC:Events for FCSI The Americas
REFRESH-INTERVAL;VALUE=DURATION:PT1H
X-Robots-Tag:noindex
X-PUBLISHED-TTL:PT1H
BEGIN:VTIMEZONE
TZID:America/Los_Angeles
BEGIN:DAYLIGHT
TZOFFSETFROM:-0800
TZOFFSETTO:-0700
TZNAME:PDT
DTSTART:20250309T100000
END:DAYLIGHT
BEGIN:STANDARD
TZOFFSETFROM:-0700
TZOFFSETTO:-0800
TZNAME:PST
DTSTART:20251102T090000
END:STANDARD
BEGIN:DAYLIGHT
TZOFFSETFROM:-0800
TZOFFSETTO:-0700
TZNAME:PDT
DTSTART:20260308T100000
END:DAYLIGHT
BEGIN:STANDARD
TZOFFSETFROM:-0700
TZOFFSETTO:-0800
TZNAME:PST
DTSTART:20261101T090000
END:STANDARD
BEGIN:DAYLIGHT
TZOFFSETFROM:-0800
TZOFFSETTO:-0700
TZNAME:PDT
DTSTART:20270314T100000
END:DAYLIGHT
BEGIN:STANDARD
TZOFFSETFROM:-0700
TZOFFSETTO:-0800
TZNAME:PST
DTSTART:20271107T090000
END:STANDARD
END:VTIMEZONE
BEGIN:VEVENT
DTSTART;TZID=America/Los_Angeles:20260623T100000
DTEND;TZID=America/Los_Angeles:20260623T120000
DTSTAMP:20260422T235138
CREATED:20260317T200115Z
LAST-MODIFIED:20260317T200137Z
UID:10001289-1782208800-1782216000@fcsita.org
SUMMARY:Cooking Big\, Cooking Smart: Expert Tips for High-Volume Kitchen
DESCRIPTION:Provided by So Cal Gas Energy Resource Center and California Energy Wise (CEW)\n2 CEUs available \nDesigned for commissary and large-batch cooking operations\, this session provides insights to streamline production and maintain quality. Learn best practices for food safety\, production planning\, portion control\, and quality assurance to keep operations efficient and compliant. \nAudience: Restaurant owners\, chefs\, facility managers\, kitchen managers\, foodservice directors\, nutritionists\, dieticians \nFocus: Large-volume cooking systems\, workflow optimization \nLearning Goals: After attending this class\, participants should be able to: \n\nLearn how to plan and organize large‑batch cooking so operations may stay more efficient\, timely\, and help consistency during high‑volume production.\nUnderstand key food‑safety practices and temperature controls which may help keep large‑scale kitchens compliant and provide assistance with protecting customer health.\nDiscover practical techniques for portion control\, workflow optimization\, and quality assurance to boost efficiency without potential risk of compromising quality.\n\nTo register\, contact Gina Christian at gchristian@socalgas.com
URL:https://fcsita.org/event/cooking-big-cooking-smart-expert-tips-for-high-volume-kitchen/
LOCATION:So Cal Gas Energy Resource Center\, 9240 Firestone\, Downey\, CA\, 90241
CATEGORIES:EPP Set Date Events - TA
ORGANIZER;CN="Gina Christian":MAILTO:gchristian@socalgas.com
END:VEVENT
END:VCALENDAR