BEGIN:VCALENDAR
VERSION:2.0
PRODID:-//FCSI The Americas - ECPv6.15.20//NONSGML v1.0//EN
CALSCALE:GREGORIAN
METHOD:PUBLISH
X-ORIGINAL-URL:https://fcsita.org
X-WR-CALDESC:Events for FCSI The Americas
REFRESH-INTERVAL;VALUE=DURATION:PT1H
X-Robots-Tag:noindex
X-PUBLISHED-TTL:PT1H
BEGIN:VTIMEZONE
TZID:America/New_York
BEGIN:DAYLIGHT
TZOFFSETFROM:-0500
TZOFFSETTO:-0400
TZNAME:EDT
DTSTART:20250309T070000
END:DAYLIGHT
BEGIN:STANDARD
TZOFFSETFROM:-0400
TZOFFSETTO:-0500
TZNAME:EST
DTSTART:20251102T060000
END:STANDARD
BEGIN:DAYLIGHT
TZOFFSETFROM:-0500
TZOFFSETTO:-0400
TZNAME:EDT
DTSTART:20260308T070000
END:DAYLIGHT
BEGIN:STANDARD
TZOFFSETFROM:-0400
TZOFFSETTO:-0500
TZNAME:EST
DTSTART:20261101T060000
END:STANDARD
BEGIN:DAYLIGHT
TZOFFSETFROM:-0500
TZOFFSETTO:-0400
TZNAME:EDT
DTSTART:20270314T070000
END:DAYLIGHT
BEGIN:STANDARD
TZOFFSETFROM:-0400
TZOFFSETTO:-0500
TZNAME:EST
DTSTART:20271107T060000
END:STANDARD
END:VTIMEZONE
BEGIN:VEVENT
DTSTART;VALUE=DATE:20260701
DTEND;VALUE=DATE:20260702
DTSTAMP:20260422T235215
CREATED:20231005T200229Z
LAST-MODIFIED:20231005T200831Z
UID:10000049-1782864000-1782950399@fcsita.org
SUMMARY:On Demand Content
DESCRIPTION:Our Education Providers are pleased to offer a variety of education programs online .  Please note\, you must request online access with the contact person listed in the program description. Once you have been given access to the program\, it will be available to you on demand. \nVisit our on demand page for more details on individual events offered: \nOn Demand Content
URL:https://fcsita.org/event/on-demand-content/2026-07-01/
END:VEVENT
BEGIN:VEVENT
DTSTART;VALUE=DATE:20260701
DTEND;VALUE=DATE:20260702
DTSTAMP:20260422T235215
CREATED:20241002T184042Z
LAST-MODIFIED:20241002T184406Z
UID:10000347-1782864000-1782950399@fcsita.org
SUMMARY:(Access On Demand) Alto-Shaam Webinar - Elevating Healthcare Dining: From Kitchen to Patient & Beyond (.5 CEUs)
DESCRIPTION:According to Technomic\, 80% of healthcare operators have innovated their menus in the last year. However\, growing a healthcare foodservice program can mean many things\, from implementing nutritious dishes to adding an extended à la carte menu. Find out how real-life operators innovate their menus and deal with everyday challenges in this upcoming online event: Elevating Healthcare Dining: From Kitchen to Patient & Beyond. \nFor On Demand Access to this webinar contact Matt Webber  MattWe@alto-shaam.com  262-251-3800 \n 
URL:https://fcsita.org/event/alto-shaam-webinar-elevating-healthcare-dining-from-kitchen-to-patient-beyond-5-ceus/2026-07-01/
LOCATION:On Demand Webinar
ORGANIZER;CN="Matt Webber":MAILTO:MattWe@alto-shaam.com
END:VEVENT
BEGIN:VEVENT
DTSTART;TZID=America/New_York:20260701T080000
DTEND;TZID=America/New_York:20260701T090000
DTSTAMP:20260422T235215
CREATED:20241211T214532Z
LAST-MODIFIED:20241211T214744Z
UID:10000489-1782892800-1782896400@fcsita.org
SUMMARY:Electricity DC Fundamentals (On Demand)
DESCRIPTION:Brought to you by CaptiveAire Systems Inc.\nThis course is worth 1 CEU. \nPrerequisite Knowledge: None\nLearning Objective 1: Understand electricity on an atomic scale and its history.\nLearning Objective 2: Understand the importance of having a fundamental understanding of electrical concepts.\nLearning Objective 3: Visualize electrical materials and components – their interactions and constraints.\nLearning Objective 4: Understand the basics of utilizing electromagnetic fields. \nFor access\, contact Mary Atwood – mary.atwood@captiveaire.com\n720-772-9971
URL:https://fcsita.org/event/electricity-dc-fundamentals-on-demand/2026-07-01/
CATEGORIES:EPP Webinar - TA
ORGANIZER;CN="Mary Atwood":MAILTO:mary.atwood@captiveair.com
END:VEVENT
BEGIN:VEVENT
DTSTART;TZID=America/New_York:20260701T080000
DTEND;TZID=America/New_York:20260701T090000
DTSTAMP:20260422T235215
CREATED:20241213T171736Z
LAST-MODIFIED:20241213T171736Z
UID:10000665-1782892800-1782896400@fcsita.org
SUMMARY:Modern Kitchen Ventilation Engineering & Design (On Demand)
DESCRIPTION:Brought to you by CaptiveAire Systems Inc.\nThis course is worth 1 CEU. \nPrerequisite Knowledge: None\nLearning Objective 1: Understand kitchen ventilation design with code requirements in regards to fire protection and the proper prevention and maintenance needed to reduce risks\nLearning Objective 2: Overview of history of indoor environmental quality and the technology as it relates to building ventilation systems\nLearning Objective 3: Recognizing need for new technologies to address customer/building issues in regards to exhaust\, humidity and filtration\nLearning Objective 4: Understand the need for total system integration when it comes to building design \nFor access\, contact Mary Atwood – mary.atwood@captiveaire.com\n720-772-9971
URL:https://fcsita.org/event/modern-kitchen-ventilation-engineering-design-on-demand/2026-07-01/
CATEGORIES:EPP Webinar - TA
END:VEVENT
BEGIN:VEVENT
DTSTART;TZID=America/New_York:20260701T080000
DTEND;TZID=America/New_York:20260701T090000
DTSTAMP:20260422T235215
CREATED:20251223T162840Z
LAST-MODIFIED:20251223T162840Z
UID:10001219-1782892800-1782896400@fcsita.org
SUMMARY:HVAC Maintenance - A Step by Step Guide
DESCRIPTION:Provided by CaptiveAire Systems\n1 CEUs available \nCourse Description:\nA little TLC goes a long way in ensuring your unit performs the way it should.\nWhether you’re a seasoned tech\, and engineer\, or an owner with a knack for DIY\, this video gives you all the steps\, tips and tricks to keep an HVAC unit in tip top shape. \nPrerequisite Knowledge: None.\nLearning Objective 1:\nUnderstanding how to properly and safely disassemble and inspect an HVAC unit.\nLearning Objective 2:\nUnderstanding how to properly clean and maintain heat pre-filters\, exchange coils\, drain pans and drains.\nLearning Objective 3:\nUnderstanding what cooling and heating parameters must be tested and verified during preventive maintenance.\nLearning Objective 4:\nUnderstanding how to correctly and safely make adjustments to indirect fired heaters. \nTo access\, https://www.youtube.com/watch?v=TDMlGDtu20shttps://www.youtube.com/watch?v=TDMlGDtu20s
URL:https://fcsita.org/event/hvac-maintenance-a-step-by-step-guide/2026-07-01/
LOCATION:On Demand Webinar
CATEGORIES:EPP Flexible Date Events - TA,EPP Webinar - TA
ORGANIZER;CN="Mary Atwood":MAILTO:mary.atwood@captiveair.com
END:VEVENT
BEGIN:VEVENT
DTSTART;TZID=America/New_York:20260701T080000
DTEND;TZID=America/New_York:20260701T090000
DTSTAMP:20260422T235215
CREATED:20260224T010029Z
LAST-MODIFIED:20260226T190148Z
UID:10001274-1782892800-1782896400@fcsita.org
SUMMARY:(On Demand) Fundamentals of Refrigeration
DESCRIPTION:Presented by Utility Refrigerator \nFundamentals of Refrigeration (1.0 CEU) – A discussion of the basics of refrigeration\, applicable to all refrigeration systems ranging from a small dorm refrigerator up to a refrigerated warehouse. Participants will have a thorough understanding of what makes refrigeration works after attending this session. We also discuss newer hydrocarbon refrigeration systems\, such as those operating on R-290 and R-600a. \nContact Marcella Zavala for On Demand access
URL:https://fcsita.org/event/on-demand-fundamentals-of-refrigeration/2026-07-01/
LOCATION:On Demand Webinar
ORGANIZER;CN="Marcella Zavala":MAILTO:www.utilityrefrigerator.com
END:VEVENT
BEGIN:VEVENT
DTSTART;TZID=America/New_York:20260701T080000
DTEND;TZID=America/New_York:20260701T170000
DTSTAMP:20260422T235215
CREATED:20240926T212357Z
LAST-MODIFIED:20240927T142415Z
UID:10000281-1782892800-1782925200@fcsita.org
SUMMARY:Chill-Rite: Cold Beverage Systems - Webinar On Demand
DESCRIPTION:Cold beverage systems overview\, including: beer\, soda\, wine\, carbonated beverages and new bulk milk for schools. \nContact Mike Teders for on demand access to the webinar \nmiketeders@chillrite32.com \n260-249-0361
URL:https://fcsita.org/event/chill-rite-cold-beverage-systems-webinar-on-demand/2026-07-01/
LOCATION:On Demand Webinar
ORGANIZER;CN="Mike Teders":MAILTO:miketeders@chillrite32.com
END:VEVENT
END:VCALENDAR