BEGIN:VCALENDAR
VERSION:2.0
PRODID:-//FCSI The Americas - ECPv6.15.20//NONSGML v1.0//EN
CALSCALE:GREGORIAN
METHOD:PUBLISH
X-ORIGINAL-URL:https://fcsita.org
X-WR-CALDESC:Events for FCSI The Americas
REFRESH-INTERVAL;VALUE=DURATION:PT1H
X-Robots-Tag:noindex
X-PUBLISHED-TTL:PT1H
BEGIN:VTIMEZONE
TZID:America/Los_Angeles
BEGIN:DAYLIGHT
TZOFFSETFROM:-0800
TZOFFSETTO:-0700
TZNAME:PDT
DTSTART:20250309T100000
END:DAYLIGHT
BEGIN:STANDARD
TZOFFSETFROM:-0700
TZOFFSETTO:-0800
TZNAME:PST
DTSTART:20251102T090000
END:STANDARD
BEGIN:DAYLIGHT
TZOFFSETFROM:-0800
TZOFFSETTO:-0700
TZNAME:PDT
DTSTART:20260308T100000
END:DAYLIGHT
BEGIN:STANDARD
TZOFFSETFROM:-0700
TZOFFSETTO:-0800
TZNAME:PST
DTSTART:20261101T090000
END:STANDARD
BEGIN:DAYLIGHT
TZOFFSETFROM:-0800
TZOFFSETTO:-0700
TZNAME:PDT
DTSTART:20270314T100000
END:DAYLIGHT
BEGIN:STANDARD
TZOFFSETFROM:-0700
TZOFFSETTO:-0800
TZNAME:PST
DTSTART:20271107T090000
END:STANDARD
END:VTIMEZONE
BEGIN:VEVENT
DTSTART;TZID=America/Los_Angeles:20260414T100000
DTEND;TZID=America/Los_Angeles:20260414T113000
DTSTAMP:20260422T234041
CREATED:20260317T200520Z
LAST-MODIFIED:20260317T200520Z
UID:10001290-1776160800-1776166200@fcsita.org
SUMMARY:From Heat Waves to Water Wins: Helpful Tips for Smarter Kitchens
DESCRIPTION:Provided by So Cal Gas\n1.5 CEUs available \nExplore two critical challenges in commercial kitchens: managing high-heat environments and reducing water waste. Learn about the newly adopted Cal/OSHA Indoor Heat Illness regulations and their impact on kitchen operations and service professionals. Gain practical strategies to help lower kitchen temperatures and maintain compliance. In the second segment\, uncover ways to identify and help prevent potential water-wasting leaks which could reduce inefficient practices in kitchens and dish rooms—all while understanding how California’s water conservation laws may affect costs. \nLearning Objectives:  Participants will be able to: \n\nUnderstand the essentials of the new Cal/OSHA Indoor Heat Illness regulations and learn practical\, real‑world strategies to help reduce kitchen temperatures\, which could help improve comfort and safety for staff.\nIdentify the most common sources of water loss—like hidden leaks and inefficient dish-room practices—and learn simple steps to help prevent them before they potentially drive-up costs.\n\nAudience: Restaurant owners\, chefs\, facility managers\, dealers\, kitchen managers\, service technicians\, maintenance personnel\, risk and safety managers\, consultants\, designers\, equipment manufacturers. \nFocus: New ventilation and heating regulations\, energy efficiency\, safety updates. \nSpeakers:  \n\nBrandon Pimental\, Engineer at the Frontier Energy\, Foodservice Technology Center (FSTC)\nTrey Young\, Engineer at Frontier Energy\, Foodservice Technology Center (FSTC)\nTo register\, contact Andrew Gibson at ARGibson@socalgas.com
URL:https://fcsita.org/event/from-heat-waves-to-water-wins-helpful-tips-for-smarter-kitchens/
LOCATION:Webinar
CATEGORIES:EPP Set Date Events - TA,EPP Webinar - TA
ORGANIZER;CN="andrew Gibson":MAILTO:ARGibson@socalgas.com
END:VEVENT
END:VCALENDAR