BEGIN:VCALENDAR
VERSION:2.0
PRODID:-//FCSI The Americas - ECPv6.15.20//NONSGML v1.0//EN
CALSCALE:GREGORIAN
METHOD:PUBLISH
X-ORIGINAL-URL:https://fcsita.org
X-WR-CALDESC:Events for FCSI The Americas
REFRESH-INTERVAL;VALUE=DURATION:PT1H
X-Robots-Tag:noindex
X-PUBLISHED-TTL:PT1H
BEGIN:VTIMEZONE
TZID:America/New_York
BEGIN:DAYLIGHT
TZOFFSETFROM:-0500
TZOFFSETTO:-0400
TZNAME:EDT
DTSTART:20240310T070000
END:DAYLIGHT
BEGIN:STANDARD
TZOFFSETFROM:-0400
TZOFFSETTO:-0500
TZNAME:EST
DTSTART:20241103T060000
END:STANDARD
BEGIN:DAYLIGHT
TZOFFSETFROM:-0500
TZOFFSETTO:-0400
TZNAME:EDT
DTSTART:20250309T070000
END:DAYLIGHT
BEGIN:STANDARD
TZOFFSETFROM:-0400
TZOFFSETTO:-0500
TZNAME:EST
DTSTART:20251102T060000
END:STANDARD
BEGIN:DAYLIGHT
TZOFFSETFROM:-0500
TZOFFSETTO:-0400
TZNAME:EDT
DTSTART:20260308T070000
END:DAYLIGHT
BEGIN:STANDARD
TZOFFSETFROM:-0400
TZOFFSETTO:-0500
TZNAME:EST
DTSTART:20261101T060000
END:STANDARD
END:VTIMEZONE
BEGIN:VEVENT
DTSTART;TZID=America/New_York:20250507T130000
DTEND;TZID=America/New_York:20250507T140000
DTSTAMP:20260423T081355
CREATED:20250130T164842Z
LAST-MODIFIED:20250130T164842Z
UID:10000778-1746622800-1746626400@fcsita.org
SUMMARY:Five Pitfalls to Avoid When Designing/Building Wine Storage
DESCRIPTION:Provided by Harmonic Wine Displays\n1 CEU available \nSummary\nIntroduction:\nOverview of wine storage challenges and the importance of proper planning.\nDefining Wine Storage:\nPurpose: display\, short-term or long-term aging\nTypes: wall racks\, wine cabinets\, cellars and custom setups\nMarket Growth in Wine Storage:\nTrends in wine sales and profitability factors\nKey Considerations:\nSpace and capacity assessment \nREGISTER\n 
URL:https://fcsita.org/event/five-pitfalls-to-avoid-when-designing-building-wine-storage/
LOCATION:Webinar
CATEGORIES:EPP Set Date Events - TA,EPP Webinar - TA
ORGANIZER;CN="Chris Fletcher":MAILTO:chrisf@harmonicwinedisplays.com
END:VEVENT
END:VCALENDAR