BEGIN:VCALENDAR
VERSION:2.0
PRODID:-//FCSI The Americas - ECPv6.15.20//NONSGML v1.0//EN
CALSCALE:GREGORIAN
METHOD:PUBLISH
X-WR-CALNAME:FCSI The Americas
X-ORIGINAL-URL:https://fcsita.org
X-WR-CALDESC:Events for FCSI The Americas
REFRESH-INTERVAL;VALUE=DURATION:PT1H
X-Robots-Tag:noindex
X-PUBLISHED-TTL:PT1H
BEGIN:VTIMEZONE
TZID:America/New_York
BEGIN:DAYLIGHT
TZOFFSETFROM:-0500
TZOFFSETTO:-0400
TZNAME:EDT
DTSTART:20240310T070000
END:DAYLIGHT
BEGIN:STANDARD
TZOFFSETFROM:-0400
TZOFFSETTO:-0500
TZNAME:EST
DTSTART:20241103T060000
END:STANDARD
BEGIN:DAYLIGHT
TZOFFSETFROM:-0500
TZOFFSETTO:-0400
TZNAME:EDT
DTSTART:20250309T070000
END:DAYLIGHT
BEGIN:STANDARD
TZOFFSETFROM:-0400
TZOFFSETTO:-0500
TZNAME:EST
DTSTART:20251102T060000
END:STANDARD
BEGIN:DAYLIGHT
TZOFFSETFROM:-0500
TZOFFSETTO:-0400
TZNAME:EDT
DTSTART:20260308T070000
END:DAYLIGHT
BEGIN:STANDARD
TZOFFSETFROM:-0400
TZOFFSETTO:-0500
TZNAME:EST
DTSTART:20261101T060000
END:STANDARD
END:VTIMEZONE
BEGIN:VEVENT
DTSTART;TZID=America/New_York:20251028T180000
DTEND;TZID=America/New_York:20251029T143000
DTSTAMP:20260423T103552
CREATED:20250411T141957Z
LAST-MODIFIED:20250411T141957Z
UID:10000947-1761674400-1761748200@fcsita.org
SUMMARY:Custom Fabrication - Making it Happen
DESCRIPTION:Provided by Eagle Group\n5 CEUs available \nThe consultants who attend will be able to grasp how fabrication techniques have advanced through the years\, this includes\nthe use of both lasers and robotics in manufacturing. They will understand what materials make up stainless steel\, what\nNSF considers food grade materials. How the engineering process works and how it ties to the manufacturing process by computer. \nTo register\, contact Karen Seeney at kseeney@eaglegrp.com or 302-653-3000 et. 3025.
URL:https://fcsita.org/event/custom-fabrication-making-it-happen/
LOCATION:Eagle Group\, 100 Industrial Blvd.\, Clayton\, DE\, 19938\, United States
CATEGORIES:EPP Set Date Events - TA
ORGANIZER;CN="Karen Seeney":MAILTO:kseeney@eaglegrp.com
END:VEVENT
END:VCALENDAR