BEGIN:VCALENDAR
VERSION:2.0
PRODID:-//FCSI The Americas - ECPv6.15.20//NONSGML v1.0//EN
CALSCALE:GREGORIAN
METHOD:PUBLISH
X-ORIGINAL-URL:https://fcsita.org
X-WR-CALDESC:Events for FCSI The Americas
REFRESH-INTERVAL;VALUE=DURATION:PT1H
X-Robots-Tag:noindex
X-PUBLISHED-TTL:PT1H
BEGIN:VTIMEZONE
TZID:America/New_York
BEGIN:DAYLIGHT
TZOFFSETFROM:-0500
TZOFFSETTO:-0400
TZNAME:EDT
DTSTART:20230312T070000
END:DAYLIGHT
BEGIN:STANDARD
TZOFFSETFROM:-0400
TZOFFSETTO:-0500
TZNAME:EST
DTSTART:20231105T060000
END:STANDARD
BEGIN:DAYLIGHT
TZOFFSETFROM:-0500
TZOFFSETTO:-0400
TZNAME:EDT
DTSTART:20240310T070000
END:DAYLIGHT
BEGIN:STANDARD
TZOFFSETFROM:-0400
TZOFFSETTO:-0500
TZNAME:EST
DTSTART:20241103T060000
END:STANDARD
BEGIN:DAYLIGHT
TZOFFSETFROM:-0500
TZOFFSETTO:-0400
TZNAME:EDT
DTSTART:20250309T070000
END:DAYLIGHT
BEGIN:STANDARD
TZOFFSETFROM:-0400
TZOFFSETTO:-0500
TZNAME:EST
DTSTART:20251102T060000
END:STANDARD
BEGIN:DAYLIGHT
TZOFFSETFROM:-0500
TZOFFSETTO:-0400
TZNAME:EDT
DTSTART:20260308T070000
END:DAYLIGHT
BEGIN:STANDARD
TZOFFSETFROM:-0400
TZOFFSETTO:-0500
TZNAME:EST
DTSTART:20261101T060000
END:STANDARD
BEGIN:DAYLIGHT
TZOFFSETFROM:-0500
TZOFFSETTO:-0400
TZNAME:EDT
DTSTART:20270314T070000
END:DAYLIGHT
BEGIN:STANDARD
TZOFFSETFROM:-0400
TZOFFSETTO:-0500
TZNAME:EST
DTSTART:20271107T060000
END:STANDARD
END:VTIMEZONE
BEGIN:VEVENT
DTSTART;TZID=America/New_York:20260401T080000
DTEND;TZID=America/New_York:20260401T170000
DTSTAMP:20260422T234622
CREATED:20240926T212357Z
LAST-MODIFIED:20240927T142415Z
UID:10000278-1775030400-1775062800@fcsita.org
SUMMARY:Chill-Rite: Cold Beverage Systems - Webinar On Demand
DESCRIPTION:Cold beverage systems overview\, including: beer\, soda\, wine\, carbonated beverages and new bulk milk for schools. \nContact Mike Teders for on demand access to the webinar \nmiketeders@chillrite32.com \n260-249-0361
URL:https://fcsita.org/event/chill-rite-cold-beverage-systems-webinar-on-demand/2026-04-01/
LOCATION:On Demand Webinar
ORGANIZER;CN="Mike Teders":MAILTO:miketeders@chillrite32.com
END:VEVENT
BEGIN:VEVENT
DTSTART;TZID=America/New_York:20260301T080000
DTEND;TZID=America/New_York:20260301T170000
DTSTAMP:20260422T234622
CREATED:20240926T212357Z
LAST-MODIFIED:20240927T142415Z
UID:10000277-1772352000-1772384400@fcsita.org
SUMMARY:Chill-Rite: Cold Beverage Systems - Webinar On Demand
DESCRIPTION:Cold beverage systems overview\, including: beer\, soda\, wine\, carbonated beverages and new bulk milk for schools. \nContact Mike Teders for on demand access to the webinar \nmiketeders@chillrite32.com \n260-249-0361
URL:https://fcsita.org/event/chill-rite-cold-beverage-systems-webinar-on-demand/2026-03-01/
LOCATION:On Demand Webinar
ORGANIZER;CN="Mike Teders":MAILTO:miketeders@chillrite32.com
END:VEVENT
BEGIN:VEVENT
DTSTART;TZID=America/New_York:20260201T080000
DTEND;TZID=America/New_York:20260201T170000
DTSTAMP:20260422T234622
CREATED:20240926T212357Z
LAST-MODIFIED:20240927T142415Z
UID:10000276-1769932800-1769965200@fcsita.org
SUMMARY:Chill-Rite: Cold Beverage Systems - Webinar On Demand
DESCRIPTION:Cold beverage systems overview\, including: beer\, soda\, wine\, carbonated beverages and new bulk milk for schools. \nContact Mike Teders for on demand access to the webinar \nmiketeders@chillrite32.com \n260-249-0361
URL:https://fcsita.org/event/chill-rite-cold-beverage-systems-webinar-on-demand/2026-02-01/
LOCATION:On Demand Webinar
ORGANIZER;CN="Mike Teders":MAILTO:miketeders@chillrite32.com
END:VEVENT
BEGIN:VEVENT
DTSTART;TZID=America/New_York:20260101T080000
DTEND;TZID=America/New_York:20260101T170000
DTSTAMP:20260422T234622
CREATED:20240926T212357Z
LAST-MODIFIED:20240927T142415Z
UID:10000275-1767254400-1767286800@fcsita.org
SUMMARY:Chill-Rite: Cold Beverage Systems - Webinar On Demand
DESCRIPTION:Cold beverage systems overview\, including: beer\, soda\, wine\, carbonated beverages and new bulk milk for schools. \nContact Mike Teders for on demand access to the webinar \nmiketeders@chillrite32.com \n260-249-0361
URL:https://fcsita.org/event/chill-rite-cold-beverage-systems-webinar-on-demand/2026-01-01/
LOCATION:On Demand Webinar
ORGANIZER;CN="Mike Teders":MAILTO:miketeders@chillrite32.com
END:VEVENT
BEGIN:VEVENT
DTSTART;TZID=America/New_York:20251201T080000
DTEND;TZID=America/New_York:20251201T170000
DTSTAMP:20260422T234622
CREATED:20240926T212357Z
LAST-MODIFIED:20240927T142415Z
UID:10000274-1764576000-1764608400@fcsita.org
SUMMARY:Chill-Rite: Cold Beverage Systems - Webinar On Demand
DESCRIPTION:Cold beverage systems overview\, including: beer\, soda\, wine\, carbonated beverages and new bulk milk for schools. \nContact Mike Teders for on demand access to the webinar \nmiketeders@chillrite32.com \n260-249-0361
URL:https://fcsita.org/event/chill-rite-cold-beverage-systems-webinar-on-demand/2025-12-01/
LOCATION:On Demand Webinar
ORGANIZER;CN="Mike Teders":MAILTO:miketeders@chillrite32.com
END:VEVENT
BEGIN:VEVENT
DTSTART;TZID=America/New_York:20251101T080000
DTEND;TZID=America/New_York:20251101T170000
DTSTAMP:20260422T234622
CREATED:20240926T212357Z
LAST-MODIFIED:20240927T142415Z
UID:10000273-1761984000-1762016400@fcsita.org
SUMMARY:Chill-Rite: Cold Beverage Systems - Webinar On Demand
DESCRIPTION:Cold beverage systems overview\, including: beer\, soda\, wine\, carbonated beverages and new bulk milk for schools. \nContact Mike Teders for on demand access to the webinar \nmiketeders@chillrite32.com \n260-249-0361
URL:https://fcsita.org/event/chill-rite-cold-beverage-systems-webinar-on-demand/2025-11-01/
LOCATION:On Demand Webinar
ORGANIZER;CN="Mike Teders":MAILTO:miketeders@chillrite32.com
END:VEVENT
BEGIN:VEVENT
DTSTART;TZID=America/New_York:20251001T080000
DTEND;TZID=America/New_York:20251001T170000
DTSTAMP:20260422T234622
CREATED:20240926T212357Z
LAST-MODIFIED:20240927T142415Z
UID:10000272-1759305600-1759338000@fcsita.org
SUMMARY:Chill-Rite: Cold Beverage Systems - Webinar On Demand
DESCRIPTION:Cold beverage systems overview\, including: beer\, soda\, wine\, carbonated beverages and new bulk milk for schools. \nContact Mike Teders for on demand access to the webinar \nmiketeders@chillrite32.com \n260-249-0361
URL:https://fcsita.org/event/chill-rite-cold-beverage-systems-webinar-on-demand/2025-10-01/
LOCATION:On Demand Webinar
ORGANIZER;CN="Mike Teders":MAILTO:miketeders@chillrite32.com
END:VEVENT
BEGIN:VEVENT
DTSTART;TZID=America/New_York:20250901T080000
DTEND;TZID=America/New_York:20250901T170000
DTSTAMP:20260422T234622
CREATED:20240926T212357Z
LAST-MODIFIED:20240927T142415Z
UID:10000271-1756713600-1756746000@fcsita.org
SUMMARY:Chill-Rite: Cold Beverage Systems - Webinar On Demand
DESCRIPTION:Cold beverage systems overview\, including: beer\, soda\, wine\, carbonated beverages and new bulk milk for schools. \nContact Mike Teders for on demand access to the webinar \nmiketeders@chillrite32.com \n260-249-0361
URL:https://fcsita.org/event/chill-rite-cold-beverage-systems-webinar-on-demand/2025-09-01/
LOCATION:On Demand Webinar
ORGANIZER;CN="Mike Teders":MAILTO:miketeders@chillrite32.com
END:VEVENT
BEGIN:VEVENT
DTSTART;TZID=America/New_York:20250801T080000
DTEND;TZID=America/New_York:20250801T170000
DTSTAMP:20260422T234622
CREATED:20240926T212357Z
LAST-MODIFIED:20240927T142415Z
UID:10000270-1754035200-1754067600@fcsita.org
SUMMARY:Chill-Rite: Cold Beverage Systems - Webinar On Demand
DESCRIPTION:Cold beverage systems overview\, including: beer\, soda\, wine\, carbonated beverages and new bulk milk for schools. \nContact Mike Teders for on demand access to the webinar \nmiketeders@chillrite32.com \n260-249-0361
URL:https://fcsita.org/event/chill-rite-cold-beverage-systems-webinar-on-demand/2025-08-01/
LOCATION:On Demand Webinar
ORGANIZER;CN="Mike Teders":MAILTO:miketeders@chillrite32.com
END:VEVENT
BEGIN:VEVENT
DTSTART;TZID=America/New_York:20250701T080000
DTEND;TZID=America/New_York:20250701T170000
DTSTAMP:20260422T234622
CREATED:20240926T212357Z
LAST-MODIFIED:20240927T142415Z
UID:10000269-1751356800-1751389200@fcsita.org
SUMMARY:Chill-Rite: Cold Beverage Systems - Webinar On Demand
DESCRIPTION:Cold beverage systems overview\, including: beer\, soda\, wine\, carbonated beverages and new bulk milk for schools. \nContact Mike Teders for on demand access to the webinar \nmiketeders@chillrite32.com \n260-249-0361
URL:https://fcsita.org/event/chill-rite-cold-beverage-systems-webinar-on-demand/2025-07-01/
LOCATION:On Demand Webinar
ORGANIZER;CN="Mike Teders":MAILTO:miketeders@chillrite32.com
END:VEVENT
BEGIN:VEVENT
DTSTART;TZID=America/New_York:20250601T080000
DTEND;TZID=America/New_York:20250601T170000
DTSTAMP:20260422T234622
CREATED:20240926T212357Z
LAST-MODIFIED:20240927T142415Z
UID:10000268-1748764800-1748797200@fcsita.org
SUMMARY:Chill-Rite: Cold Beverage Systems - Webinar On Demand
DESCRIPTION:Cold beverage systems overview\, including: beer\, soda\, wine\, carbonated beverages and new bulk milk for schools. \nContact Mike Teders for on demand access to the webinar \nmiketeders@chillrite32.com \n260-249-0361
URL:https://fcsita.org/event/chill-rite-cold-beverage-systems-webinar-on-demand/2025-06-01/
LOCATION:On Demand Webinar
ORGANIZER;CN="Mike Teders":MAILTO:miketeders@chillrite32.com
END:VEVENT
BEGIN:VEVENT
DTSTART;TZID=America/New_York:20250501T080000
DTEND;TZID=America/New_York:20250501T170000
DTSTAMP:20260422T234622
CREATED:20240926T212357Z
LAST-MODIFIED:20240927T142415Z
UID:10000267-1746086400-1746118800@fcsita.org
SUMMARY:Chill-Rite: Cold Beverage Systems - Webinar On Demand
DESCRIPTION:Cold beverage systems overview\, including: beer\, soda\, wine\, carbonated beverages and new bulk milk for schools. \nContact Mike Teders for on demand access to the webinar \nmiketeders@chillrite32.com \n260-249-0361
URL:https://fcsita.org/event/chill-rite-cold-beverage-systems-webinar-on-demand/2025-05-01/
LOCATION:On Demand Webinar
ORGANIZER;CN="Mike Teders":MAILTO:miketeders@chillrite32.com
END:VEVENT
BEGIN:VEVENT
DTSTART;TZID=America/New_York:20250401T080000
DTEND;TZID=America/New_York:20250401T170000
DTSTAMP:20260422T234622
CREATED:20240926T212357Z
LAST-MODIFIED:20240927T142415Z
UID:10000266-1743494400-1743526800@fcsita.org
SUMMARY:Chill-Rite: Cold Beverage Systems - Webinar On Demand
DESCRIPTION:Cold beverage systems overview\, including: beer\, soda\, wine\, carbonated beverages and new bulk milk for schools. \nContact Mike Teders for on demand access to the webinar \nmiketeders@chillrite32.com \n260-249-0361
URL:https://fcsita.org/event/chill-rite-cold-beverage-systems-webinar-on-demand/2025-04-01/
LOCATION:On Demand Webinar
ORGANIZER;CN="Mike Teders":MAILTO:miketeders@chillrite32.com
END:VEVENT
BEGIN:VEVENT
DTSTART;TZID=America/New_York:20250301T080000
DTEND;TZID=America/New_York:20250301T170000
DTSTAMP:20260422T234622
CREATED:20240926T212357Z
LAST-MODIFIED:20240927T142415Z
UID:10000265-1740816000-1740848400@fcsita.org
SUMMARY:Chill-Rite: Cold Beverage Systems - Webinar On Demand
DESCRIPTION:Cold beverage systems overview\, including: beer\, soda\, wine\, carbonated beverages and new bulk milk for schools. \nContact Mike Teders for on demand access to the webinar \nmiketeders@chillrite32.com \n260-249-0361
URL:https://fcsita.org/event/chill-rite-cold-beverage-systems-webinar-on-demand/2025-03-01/
LOCATION:On Demand Webinar
ORGANIZER;CN="Mike Teders":MAILTO:miketeders@chillrite32.com
END:VEVENT
BEGIN:VEVENT
DTSTART;TZID=America/New_York:20250201T080000
DTEND;TZID=America/New_York:20250201T170000
DTSTAMP:20260422T234622
CREATED:20240926T212357Z
LAST-MODIFIED:20240927T142415Z
UID:10000264-1738396800-1738429200@fcsita.org
SUMMARY:Chill-Rite: Cold Beverage Systems - Webinar On Demand
DESCRIPTION:Cold beverage systems overview\, including: beer\, soda\, wine\, carbonated beverages and new bulk milk for schools. \nContact Mike Teders for on demand access to the webinar \nmiketeders@chillrite32.com \n260-249-0361
URL:https://fcsita.org/event/chill-rite-cold-beverage-systems-webinar-on-demand/2025-02-01/
LOCATION:On Demand Webinar
ORGANIZER;CN="Mike Teders":MAILTO:miketeders@chillrite32.com
END:VEVENT
BEGIN:VEVENT
DTSTART;TZID=America/New_York:20250101T080000
DTEND;TZID=America/New_York:20250101T170000
DTSTAMP:20260422T234622
CREATED:20240926T212357Z
LAST-MODIFIED:20240927T142415Z
UID:10000263-1735718400-1735750800@fcsita.org
SUMMARY:Chill-Rite: Cold Beverage Systems - Webinar On Demand
DESCRIPTION:Cold beverage systems overview\, including: beer\, soda\, wine\, carbonated beverages and new bulk milk for schools. \nContact Mike Teders for on demand access to the webinar \nmiketeders@chillrite32.com \n260-249-0361
URL:https://fcsita.org/event/chill-rite-cold-beverage-systems-webinar-on-demand/2025-01-01/
LOCATION:On Demand Webinar
ORGANIZER;CN="Mike Teders":MAILTO:miketeders@chillrite32.com
END:VEVENT
BEGIN:VEVENT
DTSTART;TZID=America/New_York:20241201T080000
DTEND;TZID=America/New_York:20241201T170000
DTSTAMP:20260422T234622
CREATED:20240926T212357Z
LAST-MODIFIED:20240927T142415Z
UID:10000262-1733040000-1733072400@fcsita.org
SUMMARY:Chill-Rite: Cold Beverage Systems - Webinar On Demand
DESCRIPTION:Cold beverage systems overview\, including: beer\, soda\, wine\, carbonated beverages and new bulk milk for schools. \nContact Mike Teders for on demand access to the webinar \nmiketeders@chillrite32.com \n260-249-0361
URL:https://fcsita.org/event/chill-rite-cold-beverage-systems-webinar-on-demand/2024-12-01/
LOCATION:On Demand Webinar
ORGANIZER;CN="Mike Teders":MAILTO:miketeders@chillrite32.com
END:VEVENT
BEGIN:VEVENT
DTSTART;TZID=America/New_York:20241101T080000
DTEND;TZID=America/New_York:20241101T170000
DTSTAMP:20260422T234622
CREATED:20240926T212357Z
LAST-MODIFIED:20240927T142415Z
UID:10000261-1730448000-1730480400@fcsita.org
SUMMARY:Chill-Rite: Cold Beverage Systems - Webinar On Demand
DESCRIPTION:Cold beverage systems overview\, including: beer\, soda\, wine\, carbonated beverages and new bulk milk for schools. \nContact Mike Teders for on demand access to the webinar \nmiketeders@chillrite32.com \n260-249-0361
URL:https://fcsita.org/event/chill-rite-cold-beverage-systems-webinar-on-demand/2024-11-01/
LOCATION:On Demand Webinar
ORGANIZER;CN="Mike Teders":MAILTO:miketeders@chillrite32.com
END:VEVENT
BEGIN:VEVENT
DTSTART;TZID=America/New_York:20241001T080000
DTEND;TZID=America/New_York:20241001T170000
DTSTAMP:20260422T234622
CREATED:20240926T212357Z
LAST-MODIFIED:20240927T142415Z
UID:10000260-1727769600-1727802000@fcsita.org
SUMMARY:Chill-Rite: Cold Beverage Systems - Webinar On Demand
DESCRIPTION:Cold beverage systems overview\, including: beer\, soda\, wine\, carbonated beverages and new bulk milk for schools. \nContact Mike Teders for on demand access to the webinar \nmiketeders@chillrite32.com \n260-249-0361
URL:https://fcsita.org/event/chill-rite-cold-beverage-systems-webinar-on-demand/2024-10-01/
LOCATION:On Demand Webinar
ORGANIZER;CN="Mike Teders":MAILTO:miketeders@chillrite32.com
END:VEVENT
END:VCALENDAR