BEGIN:VCALENDAR
VERSION:2.0
PRODID:-//FCSI The Americas - ECPv6.15.20//NONSGML v1.0//EN
CALSCALE:GREGORIAN
METHOD:PUBLISH
X-ORIGINAL-URL:https://fcsita.org
X-WR-CALDESC:Events for FCSI The Americas
REFRESH-INTERVAL;VALUE=DURATION:PT1H
X-Robots-Tag:noindex
X-PUBLISHED-TTL:PT1H
BEGIN:VTIMEZONE
TZID:America/New_York
BEGIN:DAYLIGHT
TZOFFSETFROM:-0500
TZOFFSETTO:-0400
TZNAME:EDT
DTSTART:20230312T070000
END:DAYLIGHT
BEGIN:STANDARD
TZOFFSETFROM:-0400
TZOFFSETTO:-0500
TZNAME:EST
DTSTART:20231105T060000
END:STANDARD
BEGIN:DAYLIGHT
TZOFFSETFROM:-0500
TZOFFSETTO:-0400
TZNAME:EDT
DTSTART:20240310T070000
END:DAYLIGHT
BEGIN:STANDARD
TZOFFSETFROM:-0400
TZOFFSETTO:-0500
TZNAME:EST
DTSTART:20241103T060000
END:STANDARD
BEGIN:DAYLIGHT
TZOFFSETFROM:-0500
TZOFFSETTO:-0400
TZNAME:EDT
DTSTART:20250309T070000
END:DAYLIGHT
BEGIN:STANDARD
TZOFFSETFROM:-0400
TZOFFSETTO:-0500
TZNAME:EST
DTSTART:20251102T060000
END:STANDARD
BEGIN:DAYLIGHT
TZOFFSETFROM:-0500
TZOFFSETTO:-0400
TZNAME:EDT
DTSTART:20260308T070000
END:DAYLIGHT
BEGIN:STANDARD
TZOFFSETFROM:-0400
TZOFFSETTO:-0500
TZNAME:EST
DTSTART:20261101T060000
END:STANDARD
END:VTIMEZONE
BEGIN:VEVENT
DTSTART;TZID=America/New_York:20250401T080000
DTEND;TZID=America/New_York:20250401T170000
DTSTAMP:20260423T014939
CREATED:20240926T212357Z
LAST-MODIFIED:20240927T142415Z
UID:10000266-1743494400-1743526800@fcsita.org
SUMMARY:Chill-Rite: Cold Beverage Systems - Webinar On Demand
DESCRIPTION:Cold beverage systems overview\, including: beer\, soda\, wine\, carbonated beverages and new bulk milk for schools. \nContact Mike Teders for on demand access to the webinar \nmiketeders@chillrite32.com \n260-249-0361
URL:https://fcsita.org/event/chill-rite-cold-beverage-systems-webinar-on-demand/2025-04-01/
LOCATION:On Demand Webinar
ORGANIZER;CN="Mike Teders":MAILTO:miketeders@chillrite32.com
END:VEVENT
BEGIN:VEVENT
DTSTART;TZID=America/New_York:20250301T080000
DTEND;TZID=America/New_York:20250301T170000
DTSTAMP:20260423T014939
CREATED:20240926T212357Z
LAST-MODIFIED:20240927T142415Z
UID:10000265-1740816000-1740848400@fcsita.org
SUMMARY:Chill-Rite: Cold Beverage Systems - Webinar On Demand
DESCRIPTION:Cold beverage systems overview\, including: beer\, soda\, wine\, carbonated beverages and new bulk milk for schools. \nContact Mike Teders for on demand access to the webinar \nmiketeders@chillrite32.com \n260-249-0361
URL:https://fcsita.org/event/chill-rite-cold-beverage-systems-webinar-on-demand/2025-03-01/
LOCATION:On Demand Webinar
ORGANIZER;CN="Mike Teders":MAILTO:miketeders@chillrite32.com
END:VEVENT
BEGIN:VEVENT
DTSTART;TZID=America/New_York:20250201T080000
DTEND;TZID=America/New_York:20250201T170000
DTSTAMP:20260423T014939
CREATED:20240926T212357Z
LAST-MODIFIED:20240927T142415Z
UID:10000264-1738396800-1738429200@fcsita.org
SUMMARY:Chill-Rite: Cold Beverage Systems - Webinar On Demand
DESCRIPTION:Cold beverage systems overview\, including: beer\, soda\, wine\, carbonated beverages and new bulk milk for schools. \nContact Mike Teders for on demand access to the webinar \nmiketeders@chillrite32.com \n260-249-0361
URL:https://fcsita.org/event/chill-rite-cold-beverage-systems-webinar-on-demand/2025-02-01/
LOCATION:On Demand Webinar
ORGANIZER;CN="Mike Teders":MAILTO:miketeders@chillrite32.com
END:VEVENT
BEGIN:VEVENT
DTSTART;TZID=America/New_York:20250101T080000
DTEND;TZID=America/New_York:20250101T170000
DTSTAMP:20260423T014939
CREATED:20240926T212357Z
LAST-MODIFIED:20240927T142415Z
UID:10000263-1735718400-1735750800@fcsita.org
SUMMARY:Chill-Rite: Cold Beverage Systems - Webinar On Demand
DESCRIPTION:Cold beverage systems overview\, including: beer\, soda\, wine\, carbonated beverages and new bulk milk for schools. \nContact Mike Teders for on demand access to the webinar \nmiketeders@chillrite32.com \n260-249-0361
URL:https://fcsita.org/event/chill-rite-cold-beverage-systems-webinar-on-demand/2025-01-01/
LOCATION:On Demand Webinar
ORGANIZER;CN="Mike Teders":MAILTO:miketeders@chillrite32.com
END:VEVENT
BEGIN:VEVENT
DTSTART;TZID=America/New_York:20241201T080000
DTEND;TZID=America/New_York:20241201T170000
DTSTAMP:20260423T014939
CREATED:20240926T212357Z
LAST-MODIFIED:20240927T142415Z
UID:10000262-1733040000-1733072400@fcsita.org
SUMMARY:Chill-Rite: Cold Beverage Systems - Webinar On Demand
DESCRIPTION:Cold beverage systems overview\, including: beer\, soda\, wine\, carbonated beverages and new bulk milk for schools. \nContact Mike Teders for on demand access to the webinar \nmiketeders@chillrite32.com \n260-249-0361
URL:https://fcsita.org/event/chill-rite-cold-beverage-systems-webinar-on-demand/2024-12-01/
LOCATION:On Demand Webinar
ORGANIZER;CN="Mike Teders":MAILTO:miketeders@chillrite32.com
END:VEVENT
BEGIN:VEVENT
DTSTART;TZID=America/New_York:20241101T080000
DTEND;TZID=America/New_York:20241101T170000
DTSTAMP:20260423T014939
CREATED:20240926T212357Z
LAST-MODIFIED:20240927T142415Z
UID:10000261-1730448000-1730480400@fcsita.org
SUMMARY:Chill-Rite: Cold Beverage Systems - Webinar On Demand
DESCRIPTION:Cold beverage systems overview\, including: beer\, soda\, wine\, carbonated beverages and new bulk milk for schools. \nContact Mike Teders for on demand access to the webinar \nmiketeders@chillrite32.com \n260-249-0361
URL:https://fcsita.org/event/chill-rite-cold-beverage-systems-webinar-on-demand/2024-11-01/
LOCATION:On Demand Webinar
ORGANIZER;CN="Mike Teders":MAILTO:miketeders@chillrite32.com
END:VEVENT
BEGIN:VEVENT
DTSTART;TZID=America/New_York:20241001T080000
DTEND;TZID=America/New_York:20241001T170000
DTSTAMP:20260423T014939
CREATED:20240926T212357Z
LAST-MODIFIED:20240927T142415Z
UID:10000260-1727769600-1727802000@fcsita.org
SUMMARY:Chill-Rite: Cold Beverage Systems - Webinar On Demand
DESCRIPTION:Cold beverage systems overview\, including: beer\, soda\, wine\, carbonated beverages and new bulk milk for schools. \nContact Mike Teders for on demand access to the webinar \nmiketeders@chillrite32.com \n260-249-0361
URL:https://fcsita.org/event/chill-rite-cold-beverage-systems-webinar-on-demand/2024-10-01/
LOCATION:On Demand Webinar
ORGANIZER;CN="Mike Teders":MAILTO:miketeders@chillrite32.com
END:VEVENT
END:VCALENDAR