BEGIN:VCALENDAR
VERSION:2.0
PRODID:-//FCSI The Americas - ECPv6.15.20//NONSGML v1.0//EN
CALSCALE:GREGORIAN
METHOD:PUBLISH
X-ORIGINAL-URL:https://fcsita.org
X-WR-CALDESC:Events for FCSI The Americas
REFRESH-INTERVAL;VALUE=DURATION:PT1H
X-Robots-Tag:noindex
X-PUBLISHED-TTL:PT1H
BEGIN:VTIMEZONE
TZID:America/Los_Angeles
BEGIN:DAYLIGHT
TZOFFSETFROM:-0800
TZOFFSETTO:-0700
TZNAME:PDT
DTSTART:20240310T100000
END:DAYLIGHT
BEGIN:STANDARD
TZOFFSETFROM:-0700
TZOFFSETTO:-0800
TZNAME:PST
DTSTART:20241103T090000
END:STANDARD
BEGIN:DAYLIGHT
TZOFFSETFROM:-0800
TZOFFSETTO:-0700
TZNAME:PDT
DTSTART:20250309T100000
END:DAYLIGHT
BEGIN:STANDARD
TZOFFSETFROM:-0700
TZOFFSETTO:-0800
TZNAME:PST
DTSTART:20251102T090000
END:STANDARD
BEGIN:DAYLIGHT
TZOFFSETFROM:-0800
TZOFFSETTO:-0700
TZNAME:PDT
DTSTART:20260308T100000
END:DAYLIGHT
BEGIN:STANDARD
TZOFFSETFROM:-0700
TZOFFSETTO:-0800
TZNAME:PST
DTSTART:20261101T090000
END:STANDARD
END:VTIMEZONE
BEGIN:VTIMEZONE
TZID:America/Chicago
BEGIN:DAYLIGHT
TZOFFSETFROM:-0600
TZOFFSETTO:-0500
TZNAME:CDT
DTSTART:20240310T080000
END:DAYLIGHT
BEGIN:STANDARD
TZOFFSETFROM:-0500
TZOFFSETTO:-0600
TZNAME:CST
DTSTART:20241103T070000
END:STANDARD
BEGIN:DAYLIGHT
TZOFFSETFROM:-0600
TZOFFSETTO:-0500
TZNAME:CDT
DTSTART:20250309T080000
END:DAYLIGHT
BEGIN:STANDARD
TZOFFSETFROM:-0500
TZOFFSETTO:-0600
TZNAME:CST
DTSTART:20251102T070000
END:STANDARD
BEGIN:DAYLIGHT
TZOFFSETFROM:-0600
TZOFFSETTO:-0500
TZNAME:CDT
DTSTART:20260308T080000
END:DAYLIGHT
BEGIN:STANDARD
TZOFFSETFROM:-0500
TZOFFSETTO:-0600
TZNAME:CST
DTSTART:20261101T070000
END:STANDARD
END:VTIMEZONE
BEGIN:VEVENT
DTSTART;TZID=America/Los_Angeles:20250604T170000
DTEND;TZID=America/Los_Angeles:20250606T150000
DTSTAMP:20260423T065025
CREATED:20250131T142535Z
LAST-MODIFIED:20250211T170953Z
UID:10000779-1749056400-1749222000@fcsita.org
SUMMARY:Hatco Sneezeguard University
DESCRIPTION:4.75 CEUs available \nSneeze Guard University\nThe overall objective of our training is to showcase modern sneeze guard manufacturing and applications. We will start with the basics and history of glass then dive into the rules and restrictions that need to be adhered to to meet NSF guidelines for the different types of sneeze guards available today. The class will also review the different types of mounting options and when and where they should be used followed by the various accessories they might consider in their specification. This will cover items such as the different lighting style and types of lights and lighting figures as well as the different types of strip heaters along with when\, where and how to apply them in foodservice applications. We will tour a sneeze guard factory setting that will allow the consultants to see the end-to-end manufacturing process of a sneeze guard from cutting\, drilling and tempering the glass to milling and machining the support materials needed. We will round out our meetings by discussing what the future needs look line for sneeze guards. \nAgenda\n \nDay 1\nMorning-Mid Afternoon:  Guests arrive/Transportation to hotel\n5pm-6pm:   Welcome Reception\n6pm-9pm:   Dinner \nDay 2\n8:00-8:30:  History of Glass\n8:30-9:30:  Sneeze Guards\n8:30-9:00:  Rules and Regulations\n9:00-10:00: Types\, styles\, and applications\n10:00- 10:15: Break\n10:15-11:00: Accessories Lighting type styles and options lighting integration\n11:00-11:30: Resources (KCL\, CAD\, Revit Configurators)\n11:30- 12:00: What’s under the glass/in the counter\n12:00-1:00:  Lunch\n1pm-3pm:  Factory Tour \nTo register\, contact Raoul Cervantes at rcervantes@hatcocorp.com or 802.477.3378
URL:https://fcsita.org/event/hatco-sneezeguard-university/
LOCATION:Hatco\, 2300 Wilbur Ave\, Antioch\, CA\, 94509\, United States
CATEGORIES:EPP Set Date Events - TA
ORGANIZER;CN="Raoul Cervantes":MAILTO:rcervantes@hatcocorp.com
END:VEVENT
BEGIN:VEVENT
DTSTART;VALUE=DATE:20250506
DTEND;VALUE=DATE:20250509
DTSTAMP:20260423T065025
CREATED:20250131T152537Z
LAST-MODIFIED:20260116T200226Z
UID:10000780-1746489600-1746748799@fcsita.org
SUMMARY:Hatco University
DESCRIPTION:12.5 CEUs available \nThe overall objective of our training is to educate on Food Warming\, Light Cooking\, Hot/Cold Wells\, Hot/Cold Shelves\, Humidified Cabinets\, Lockers\, Water Heating\, Merchandisers\, Drawer Warmers\, Toasters\, Sneeze Guards and their applications in foodservice. We present and discuss the basics and history of each category\, the rules and restrictions that need to be adhered to meet NSF and UL guidelines. The class will also have hands-on interaction with the different types of products. We will also cover items such as the different options and accessories that can improve the efficiency of each product in its application.\nWe will tour of our factory/ This will allow the consultants to see the end-to-end manufacturing process of each product category. We will finish the event with a final exam of the product knowledge they have attained. \nAgenda \nTo register\, contact Raoul Cervantes at rcervantes@hatcocorp.com or 802.477.3378
URL:https://fcsita.org/event/hatco-university/2025-05-06/
LOCATION:Hatco University\, 208 E. Deck St.\, Sturgeon Bay\, WI\, 54235\, United States
CATEGORIES:EPP Set Date Events - TA
ORGANIZER;CN="Raoul Cervantes":MAILTO:rcervantes@hatcocorp.com
END:VEVENT
END:VCALENDAR