BEGIN:VCALENDAR
VERSION:2.0
PRODID:-//FCSI The Americas - ECPv6.15.20//NONSGML v1.0//EN
CALSCALE:GREGORIAN
METHOD:PUBLISH
X-WR-CALNAME:FCSI The Americas
X-ORIGINAL-URL:https://fcsita.org
X-WR-CALDESC:Events for FCSI The Americas
REFRESH-INTERVAL;VALUE=DURATION:PT1H
X-Robots-Tag:noindex
X-PUBLISHED-TTL:PT1H
BEGIN:VTIMEZONE
TZID:America/Chicago
BEGIN:DAYLIGHT
TZOFFSETFROM:-0600
TZOFFSETTO:-0500
TZNAME:CDT
DTSTART:20250309T080000
END:DAYLIGHT
BEGIN:STANDARD
TZOFFSETFROM:-0500
TZOFFSETTO:-0600
TZNAME:CST
DTSTART:20251102T070000
END:STANDARD
BEGIN:DAYLIGHT
TZOFFSETFROM:-0600
TZOFFSETTO:-0500
TZNAME:CDT
DTSTART:20260308T080000
END:DAYLIGHT
BEGIN:STANDARD
TZOFFSETFROM:-0500
TZOFFSETTO:-0600
TZNAME:CST
DTSTART:20261101T070000
END:STANDARD
BEGIN:DAYLIGHT
TZOFFSETFROM:-0600
TZOFFSETTO:-0500
TZNAME:CDT
DTSTART:20270314T080000
END:DAYLIGHT
BEGIN:STANDARD
TZOFFSETFROM:-0500
TZOFFSETTO:-0600
TZNAME:CST
DTSTART:20271107T070000
END:STANDARD
END:VTIMEZONE
BEGIN:VEVENT
DTSTART;VALUE=DATE:20260730
DTEND;VALUE=DATE:20260731
DTSTAMP:20260422T215743
CREATED:20260403T152100Z
LAST-MODIFIED:20260403T152100Z
UID:10001294-1785369600-1785455999@fcsita.org
SUMMARY:Merchandiser Applications/Production/Design Factory Tour & Education
DESCRIPTION:Provided by Structural Concepts\n3.5 CEUs available \n  \nFCSI Consultant Factory Tour and Education Program\nArrival-7.29.2026 \n6:30PM Dinner- NOTO’s Bil-Mar\nTraining Day 7.30.2026\n8:00AM Depart Hotel\n8:15AM Arrive HQ\n9:00AM Plant 2 tour-education program (1.0 CEU)\n10:45AM Showroom/Classroom-Merchandising Specification (1.5 CEU)\n12:15PM Lunch\n1:00PM Plant 1 tour- education program (1.0 Ceu)\n3:00PM Departure \nFor more information and to register\, contact Sarah Kurth at 616-304-7414 or skurth@structuralconcepts.com
URL:https://fcsita.org/event/merchandiser-applications-production-design-factory-tour-education/
LOCATION:Structural Concepts Factory\, 800 E. Porter Road\, Norton Shores\, MI\, 49441\, United States
CATEGORIES:EPP Set Date Events - TA
ORGANIZER;CN="Sarah Kurth":MAILTO:skurth@structuralconcepts.com
END:VEVENT
END:VCALENDAR