BEGIN:VCALENDAR
VERSION:2.0
PRODID:-//FCSI The Americas - ECPv6.15.20//NONSGML v1.0//EN
CALSCALE:GREGORIAN
METHOD:PUBLISH
X-WR-CALNAME:FCSI The Americas
X-ORIGINAL-URL:https://fcsita.org
X-WR-CALDESC:Events for FCSI The Americas
REFRESH-INTERVAL;VALUE=DURATION:PT1H
X-Robots-Tag:noindex
X-PUBLISHED-TTL:PT1H
BEGIN:VTIMEZONE
TZID:America/New_York
BEGIN:DAYLIGHT
TZOFFSETFROM:-0500
TZOFFSETTO:-0400
TZNAME:EDT
DTSTART:20240310T070000
END:DAYLIGHT
BEGIN:STANDARD
TZOFFSETFROM:-0400
TZOFFSETTO:-0500
TZNAME:EST
DTSTART:20241103T060000
END:STANDARD
BEGIN:DAYLIGHT
TZOFFSETFROM:-0500
TZOFFSETTO:-0400
TZNAME:EDT
DTSTART:20250309T070000
END:DAYLIGHT
BEGIN:STANDARD
TZOFFSETFROM:-0400
TZOFFSETTO:-0500
TZNAME:EST
DTSTART:20251102T060000
END:STANDARD
BEGIN:DAYLIGHT
TZOFFSETFROM:-0500
TZOFFSETTO:-0400
TZNAME:EDT
DTSTART:20260308T070000
END:DAYLIGHT
BEGIN:STANDARD
TZOFFSETFROM:-0400
TZOFFSETTO:-0500
TZNAME:EST
DTSTART:20261101T060000
END:STANDARD
BEGIN:DAYLIGHT
TZOFFSETFROM:-0500
TZOFFSETTO:-0400
TZNAME:EDT
DTSTART:20270314T070000
END:DAYLIGHT
BEGIN:STANDARD
TZOFFSETFROM:-0400
TZOFFSETTO:-0500
TZNAME:EST
DTSTART:20271107T060000
END:STANDARD
END:VTIMEZONE
BEGIN:VEVENT
DTSTART;TZID=America/New_York:20260415T080000
DTEND;TZID=America/New_York:20260415T090000
DTSTAMP:20260422T215709
CREATED:20250513T161940Z
LAST-MODIFIED:20250513T164054Z
UID:10000997-1776240000-1776243600@fcsita.org
SUMMARY:Griddle Mysteries- Unwraping the Contruction and Operation of Flat Top Griddles
DESCRIPTION:Provided by AccuTemp Products\, Inc.\n1 CEU available \nFactory tour presentation. Adgenda will be griddle focused. Discussing the construction of different types of griddles\, how each operates and what electrification means for griddles gooing forward. Generic info not manufacturer specific. \nTo register\, contact John Pennington at jpennington@accutemp.net or 260-341-7726.
URL:https://fcsita.org/event/griddle-mysteries-unwraping-the-contruction-and-operation-of-flat-top-griddles/2026-04-15/
LOCATION:AccuTemp\, 11919 John Adams Drive\, New Haven\, IN\, 46774\, United States
CATEGORIES:EPP Flexible Date Events - TA
ORGANIZER;CN="john pennington":MAILTO:jpennington@accutemp.net
END:VEVENT
BEGIN:VEVENT
DTSTART;TZID=America/New_York:20260414T080000
DTEND;TZID=America/New_York:20260414T090000
DTSTAMP:20260422T215709
CREATED:20250513T163921Z
LAST-MODIFIED:20250513T163921Z
UID:10001022-1776153600-1776157200@fcsita.org
SUMMARY:Full Steam Ahead! The Physics and History of Steam\, Using Steam in Your Designs\, and Electrification
DESCRIPTION:Provided by AccuTemp Products Inc.\n1 CEU available \nFactory tour presentation. Adgenda will be steamer focused. Physics of how steam works in a steamer and in general\, how steam fits into new designs and what electrification means for steam. Generic info not manufacturer specific. \nTo register\, contact John Pennington at jpennington@accutemp.net or 260-341-7726.
URL:https://fcsita.org/event/full-steam-ahead-the-physics-and-history-of-steam-using-steam-in-your-designs-and-electrification/2026-04-14/
LOCATION:AccuTemp\, 11919 John Adams Drive\, New Haven\, IN\, 46774\, United States
CATEGORIES:EPP Flexible Date Events - TA
ORGANIZER;CN="john pennington":MAILTO:jpennington@accutemp.net
END:VEVENT
BEGIN:VEVENT
DTSTART;TZID=America/New_York:20260315T080000
DTEND;TZID=America/New_York:20260315T090000
DTSTAMP:20260422T215709
CREATED:20250513T161940Z
LAST-MODIFIED:20250513T164054Z
UID:10000996-1773561600-1773565200@fcsita.org
SUMMARY:Griddle Mysteries- Unwraping the Contruction and Operation of Flat Top Griddles
DESCRIPTION:Provided by AccuTemp Products\, Inc.\n1 CEU available \nFactory tour presentation. Adgenda will be griddle focused. Discussing the construction of different types of griddles\, how each operates and what electrification means for griddles gooing forward. Generic info not manufacturer specific. \nTo register\, contact John Pennington at jpennington@accutemp.net or 260-341-7726.
URL:https://fcsita.org/event/griddle-mysteries-unwraping-the-contruction-and-operation-of-flat-top-griddles/2026-03-15/
LOCATION:AccuTemp\, 11919 John Adams Drive\, New Haven\, IN\, 46774\, United States
CATEGORIES:EPP Flexible Date Events - TA
ORGANIZER;CN="john pennington":MAILTO:jpennington@accutemp.net
END:VEVENT
BEGIN:VEVENT
DTSTART;TZID=America/New_York:20260310T080000
DTEND;TZID=America/New_York:20260310T090000
DTSTAMP:20260422T215709
CREATED:20250513T163921Z
LAST-MODIFIED:20250513T163921Z
UID:10001021-1773129600-1773133200@fcsita.org
SUMMARY:Full Steam Ahead! The Physics and History of Steam\, Using Steam in Your Designs\, and Electrification
DESCRIPTION:Provided by AccuTemp Products Inc.\n1 CEU available \nFactory tour presentation. Adgenda will be steamer focused. Physics of how steam works in a steamer and in general\, how steam fits into new designs and what electrification means for steam. Generic info not manufacturer specific. \nTo register\, contact John Pennington at jpennington@accutemp.net or 260-341-7726.
URL:https://fcsita.org/event/full-steam-ahead-the-physics-and-history-of-steam-using-steam-in-your-designs-and-electrification/2026-03-10/
LOCATION:AccuTemp\, 11919 John Adams Drive\, New Haven\, IN\, 46774\, United States
CATEGORIES:EPP Flexible Date Events - TA
ORGANIZER;CN="john pennington":MAILTO:jpennington@accutemp.net
END:VEVENT
BEGIN:VEVENT
DTSTART;TZID=America/New_York:20260215T080000
DTEND;TZID=America/New_York:20260215T090000
DTSTAMP:20260422T215709
CREATED:20250513T161940Z
LAST-MODIFIED:20250513T164054Z
UID:10000995-1771142400-1771146000@fcsita.org
SUMMARY:Griddle Mysteries- Unwraping the Contruction and Operation of Flat Top Griddles
DESCRIPTION:Provided by AccuTemp Products\, Inc.\n1 CEU available \nFactory tour presentation. Adgenda will be griddle focused. Discussing the construction of different types of griddles\, how each operates and what electrification means for griddles gooing forward. Generic info not manufacturer specific. \nTo register\, contact John Pennington at jpennington@accutemp.net or 260-341-7726.
URL:https://fcsita.org/event/griddle-mysteries-unwraping-the-contruction-and-operation-of-flat-top-griddles/2026-02-15/
LOCATION:AccuTemp\, 11919 John Adams Drive\, New Haven\, IN\, 46774\, United States
CATEGORIES:EPP Flexible Date Events - TA
ORGANIZER;CN="john pennington":MAILTO:jpennington@accutemp.net
END:VEVENT
BEGIN:VEVENT
DTSTART;TZID=America/New_York:20260210T080000
DTEND;TZID=America/New_York:20260210T090000
DTSTAMP:20260422T215709
CREATED:20250513T163921Z
LAST-MODIFIED:20250513T163921Z
UID:10001020-1770710400-1770714000@fcsita.org
SUMMARY:Full Steam Ahead! The Physics and History of Steam\, Using Steam in Your Designs\, and Electrification
DESCRIPTION:Provided by AccuTemp Products Inc.\n1 CEU available \nFactory tour presentation. Adgenda will be steamer focused. Physics of how steam works in a steamer and in general\, how steam fits into new designs and what electrification means for steam. Generic info not manufacturer specific. \nTo register\, contact John Pennington at jpennington@accutemp.net or 260-341-7726.
URL:https://fcsita.org/event/full-steam-ahead-the-physics-and-history-of-steam-using-steam-in-your-designs-and-electrification/2026-02-10/
LOCATION:AccuTemp\, 11919 John Adams Drive\, New Haven\, IN\, 46774\, United States
CATEGORIES:EPP Flexible Date Events - TA
ORGANIZER;CN="john pennington":MAILTO:jpennington@accutemp.net
END:VEVENT
BEGIN:VEVENT
DTSTART;TZID=America/New_York:20260115T080000
DTEND;TZID=America/New_York:20260115T090000
DTSTAMP:20260422T215709
CREATED:20250513T161940Z
LAST-MODIFIED:20250513T164054Z
UID:10000994-1768464000-1768467600@fcsita.org
SUMMARY:Griddle Mysteries- Unwraping the Contruction and Operation of Flat Top Griddles
DESCRIPTION:Provided by AccuTemp Products\, Inc.\n1 CEU available \nFactory tour presentation. Adgenda will be griddle focused. Discussing the construction of different types of griddles\, how each operates and what electrification means for griddles gooing forward. Generic info not manufacturer specific. \nTo register\, contact John Pennington at jpennington@accutemp.net or 260-341-7726.
URL:https://fcsita.org/event/griddle-mysteries-unwraping-the-contruction-and-operation-of-flat-top-griddles/2026-01-15/
LOCATION:AccuTemp\, 11919 John Adams Drive\, New Haven\, IN\, 46774\, United States
CATEGORIES:EPP Flexible Date Events - TA
ORGANIZER;CN="john pennington":MAILTO:jpennington@accutemp.net
END:VEVENT
BEGIN:VEVENT
DTSTART;TZID=America/New_York:20260113T080000
DTEND;TZID=America/New_York:20260113T090000
DTSTAMP:20260422T215709
CREATED:20250513T163921Z
LAST-MODIFIED:20250513T163921Z
UID:10001019-1768291200-1768294800@fcsita.org
SUMMARY:Full Steam Ahead! The Physics and History of Steam\, Using Steam in Your Designs\, and Electrification
DESCRIPTION:Provided by AccuTemp Products Inc.\n1 CEU available \nFactory tour presentation. Adgenda will be steamer focused. Physics of how steam works in a steamer and in general\, how steam fits into new designs and what electrification means for steam. Generic info not manufacturer specific. \nTo register\, contact John Pennington at jpennington@accutemp.net or 260-341-7726.
URL:https://fcsita.org/event/full-steam-ahead-the-physics-and-history-of-steam-using-steam-in-your-designs-and-electrification/2026-01-13/
LOCATION:AccuTemp\, 11919 John Adams Drive\, New Haven\, IN\, 46774\, United States
CATEGORIES:EPP Flexible Date Events - TA
ORGANIZER;CN="john pennington":MAILTO:jpennington@accutemp.net
END:VEVENT
BEGIN:VEVENT
DTSTART;TZID=America/New_York:20251215T080000
DTEND;TZID=America/New_York:20251215T090000
DTSTAMP:20260422T215709
CREATED:20250513T161940Z
LAST-MODIFIED:20250513T164054Z
UID:10000993-1765785600-1765789200@fcsita.org
SUMMARY:Griddle Mysteries- Unwraping the Contruction and Operation of Flat Top Griddles
DESCRIPTION:Provided by AccuTemp Products\, Inc.\n1 CEU available \nFactory tour presentation. Adgenda will be griddle focused. Discussing the construction of different types of griddles\, how each operates and what electrification means for griddles gooing forward. Generic info not manufacturer specific. \nTo register\, contact John Pennington at jpennington@accutemp.net or 260-341-7726.
URL:https://fcsita.org/event/griddle-mysteries-unwraping-the-contruction-and-operation-of-flat-top-griddles/2025-12-15/
LOCATION:AccuTemp\, 11919 John Adams Drive\, New Haven\, IN\, 46774\, United States
CATEGORIES:EPP Flexible Date Events - TA
ORGANIZER;CN="john pennington":MAILTO:jpennington@accutemp.net
END:VEVENT
BEGIN:VEVENT
DTSTART;TZID=America/New_York:20251209T080000
DTEND;TZID=America/New_York:20251209T090000
DTSTAMP:20260422T215710
CREATED:20250513T163921Z
LAST-MODIFIED:20250513T163921Z
UID:10001018-1765267200-1765270800@fcsita.org
SUMMARY:Full Steam Ahead! The Physics and History of Steam\, Using Steam in Your Designs\, and Electrification
DESCRIPTION:Provided by AccuTemp Products Inc.\n1 CEU available \nFactory tour presentation. Adgenda will be steamer focused. Physics of how steam works in a steamer and in general\, how steam fits into new designs and what electrification means for steam. Generic info not manufacturer specific. \nTo register\, contact John Pennington at jpennington@accutemp.net or 260-341-7726.
URL:https://fcsita.org/event/full-steam-ahead-the-physics-and-history-of-steam-using-steam-in-your-designs-and-electrification/2025-12-09/
LOCATION:AccuTemp\, 11919 John Adams Drive\, New Haven\, IN\, 46774\, United States
CATEGORIES:EPP Flexible Date Events - TA
ORGANIZER;CN="john pennington":MAILTO:jpennington@accutemp.net
END:VEVENT
BEGIN:VEVENT
DTSTART;TZID=America/New_York:20251115T080000
DTEND;TZID=America/New_York:20251115T090000
DTSTAMP:20260422T215710
CREATED:20250513T161940Z
LAST-MODIFIED:20250513T164054Z
UID:10000992-1763193600-1763197200@fcsita.org
SUMMARY:Griddle Mysteries- Unwraping the Contruction and Operation of Flat Top Griddles
DESCRIPTION:Provided by AccuTemp Products\, Inc.\n1 CEU available \nFactory tour presentation. Adgenda will be griddle focused. Discussing the construction of different types of griddles\, how each operates and what electrification means for griddles gooing forward. Generic info not manufacturer specific. \nTo register\, contact John Pennington at jpennington@accutemp.net or 260-341-7726.
URL:https://fcsita.org/event/griddle-mysteries-unwraping-the-contruction-and-operation-of-flat-top-griddles/2025-11-15/
LOCATION:AccuTemp\, 11919 John Adams Drive\, New Haven\, IN\, 46774\, United States
CATEGORIES:EPP Flexible Date Events - TA
ORGANIZER;CN="john pennington":MAILTO:jpennington@accutemp.net
END:VEVENT
BEGIN:VEVENT
DTSTART;TZID=America/New_York:20251111T080000
DTEND;TZID=America/New_York:20251111T090000
DTSTAMP:20260422T215710
CREATED:20250513T163921Z
LAST-MODIFIED:20250513T163921Z
UID:10001017-1762848000-1762851600@fcsita.org
SUMMARY:Full Steam Ahead! The Physics and History of Steam\, Using Steam in Your Designs\, and Electrification
DESCRIPTION:Provided by AccuTemp Products Inc.\n1 CEU available \nFactory tour presentation. Adgenda will be steamer focused. Physics of how steam works in a steamer and in general\, how steam fits into new designs and what electrification means for steam. Generic info not manufacturer specific. \nTo register\, contact John Pennington at jpennington@accutemp.net or 260-341-7726.
URL:https://fcsita.org/event/full-steam-ahead-the-physics-and-history-of-steam-using-steam-in-your-designs-and-electrification/2025-11-11/
LOCATION:AccuTemp\, 11919 John Adams Drive\, New Haven\, IN\, 46774\, United States
CATEGORIES:EPP Flexible Date Events - TA
ORGANIZER;CN="john pennington":MAILTO:jpennington@accutemp.net
END:VEVENT
BEGIN:VEVENT
DTSTART;TZID=America/New_York:20251015T080000
DTEND;TZID=America/New_York:20251015T090000
DTSTAMP:20260422T215710
CREATED:20250513T161940Z
LAST-MODIFIED:20250513T164054Z
UID:10000991-1760515200-1760518800@fcsita.org
SUMMARY:Griddle Mysteries- Unwraping the Contruction and Operation of Flat Top Griddles
DESCRIPTION:Provided by AccuTemp Products\, Inc.\n1 CEU available \nFactory tour presentation. Adgenda will be griddle focused. Discussing the construction of different types of griddles\, how each operates and what electrification means for griddles gooing forward. Generic info not manufacturer specific. \nTo register\, contact John Pennington at jpennington@accutemp.net or 260-341-7726.
URL:https://fcsita.org/event/griddle-mysteries-unwraping-the-contruction-and-operation-of-flat-top-griddles/2025-10-15/
LOCATION:AccuTemp\, 11919 John Adams Drive\, New Haven\, IN\, 46774\, United States
CATEGORIES:EPP Flexible Date Events - TA
ORGANIZER;CN="john pennington":MAILTO:jpennington@accutemp.net
END:VEVENT
BEGIN:VEVENT
DTSTART;TZID=America/New_York:20251014T080000
DTEND;TZID=America/New_York:20251014T090000
DTSTAMP:20260422T215710
CREATED:20250513T163921Z
LAST-MODIFIED:20250513T163921Z
UID:10001016-1760428800-1760432400@fcsita.org
SUMMARY:Full Steam Ahead! The Physics and History of Steam\, Using Steam in Your Designs\, and Electrification
DESCRIPTION:Provided by AccuTemp Products Inc.\n1 CEU available \nFactory tour presentation. Adgenda will be steamer focused. Physics of how steam works in a steamer and in general\, how steam fits into new designs and what electrification means for steam. Generic info not manufacturer specific. \nTo register\, contact John Pennington at jpennington@accutemp.net or 260-341-7726.
URL:https://fcsita.org/event/full-steam-ahead-the-physics-and-history-of-steam-using-steam-in-your-designs-and-electrification/2025-10-14/
LOCATION:AccuTemp\, 11919 John Adams Drive\, New Haven\, IN\, 46774\, United States
CATEGORIES:EPP Flexible Date Events - TA
ORGANIZER;CN="john pennington":MAILTO:jpennington@accutemp.net
END:VEVENT
BEGIN:VEVENT
DTSTART;TZID=America/New_York:20250915T080000
DTEND;TZID=America/New_York:20250915T090000
DTSTAMP:20260422T215710
CREATED:20250513T161940Z
LAST-MODIFIED:20250513T164054Z
UID:10000990-1757923200-1757926800@fcsita.org
SUMMARY:Griddle Mysteries- Unwraping the Contruction and Operation of Flat Top Griddles
DESCRIPTION:Provided by AccuTemp Products\, Inc.\n1 CEU available \nFactory tour presentation. Adgenda will be griddle focused. Discussing the construction of different types of griddles\, how each operates and what electrification means for griddles gooing forward. Generic info not manufacturer specific. \nTo register\, contact John Pennington at jpennington@accutemp.net or 260-341-7726.
URL:https://fcsita.org/event/griddle-mysteries-unwraping-the-contruction-and-operation-of-flat-top-griddles/2025-09-15/
LOCATION:AccuTemp\, 11919 John Adams Drive\, New Haven\, IN\, 46774\, United States
CATEGORIES:EPP Flexible Date Events - TA
ORGANIZER;CN="john pennington":MAILTO:jpennington@accutemp.net
END:VEVENT
BEGIN:VEVENT
DTSTART;TZID=America/New_York:20250909T080000
DTEND;TZID=America/New_York:20250909T090000
DTSTAMP:20260422T215710
CREATED:20250513T163921Z
LAST-MODIFIED:20250513T163921Z
UID:10001015-1757404800-1757408400@fcsita.org
SUMMARY:Full Steam Ahead! The Physics and History of Steam\, Using Steam in Your Designs\, and Electrification
DESCRIPTION:Provided by AccuTemp Products Inc.\n1 CEU available \nFactory tour presentation. Adgenda will be steamer focused. Physics of how steam works in a steamer and in general\, how steam fits into new designs and what electrification means for steam. Generic info not manufacturer specific. \nTo register\, contact John Pennington at jpennington@accutemp.net or 260-341-7726.
URL:https://fcsita.org/event/full-steam-ahead-the-physics-and-history-of-steam-using-steam-in-your-designs-and-electrification/2025-09-09/
LOCATION:AccuTemp\, 11919 John Adams Drive\, New Haven\, IN\, 46774\, United States
CATEGORIES:EPP Flexible Date Events - TA
ORGANIZER;CN="john pennington":MAILTO:jpennington@accutemp.net
END:VEVENT
BEGIN:VEVENT
DTSTART;TZID=America/New_York:20250815T080000
DTEND;TZID=America/New_York:20250815T090000
DTSTAMP:20260422T215710
CREATED:20250513T161940Z
LAST-MODIFIED:20250513T164054Z
UID:10000989-1755244800-1755248400@fcsita.org
SUMMARY:Griddle Mysteries- Unwraping the Contruction and Operation of Flat Top Griddles
DESCRIPTION:Provided by AccuTemp Products\, Inc.\n1 CEU available \nFactory tour presentation. Adgenda will be griddle focused. Discussing the construction of different types of griddles\, how each operates and what electrification means for griddles gooing forward. Generic info not manufacturer specific. \nTo register\, contact John Pennington at jpennington@accutemp.net or 260-341-7726.
URL:https://fcsita.org/event/griddle-mysteries-unwraping-the-contruction-and-operation-of-flat-top-griddles/2025-08-15/
LOCATION:AccuTemp\, 11919 John Adams Drive\, New Haven\, IN\, 46774\, United States
CATEGORIES:EPP Flexible Date Events - TA
ORGANIZER;CN="john pennington":MAILTO:jpennington@accutemp.net
END:VEVENT
BEGIN:VEVENT
DTSTART;TZID=America/New_York:20250812T080000
DTEND;TZID=America/New_York:20250812T090000
DTSTAMP:20260422T215710
CREATED:20250513T163921Z
LAST-MODIFIED:20250513T163921Z
UID:10001014-1754985600-1754989200@fcsita.org
SUMMARY:Full Steam Ahead! The Physics and History of Steam\, Using Steam in Your Designs\, and Electrification
DESCRIPTION:Provided by AccuTemp Products Inc.\n1 CEU available \nFactory tour presentation. Adgenda will be steamer focused. Physics of how steam works in a steamer and in general\, how steam fits into new designs and what electrification means for steam. Generic info not manufacturer specific. \nTo register\, contact John Pennington at jpennington@accutemp.net or 260-341-7726.
URL:https://fcsita.org/event/full-steam-ahead-the-physics-and-history-of-steam-using-steam-in-your-designs-and-electrification/2025-08-12/
LOCATION:AccuTemp\, 11919 John Adams Drive\, New Haven\, IN\, 46774\, United States
CATEGORIES:EPP Flexible Date Events - TA
ORGANIZER;CN="john pennington":MAILTO:jpennington@accutemp.net
END:VEVENT
BEGIN:VEVENT
DTSTART;TZID=America/New_York:20250715T080000
DTEND;TZID=America/New_York:20250715T090000
DTSTAMP:20260422T215710
CREATED:20250513T161940Z
LAST-MODIFIED:20250513T164054Z
UID:10000988-1752566400-1752570000@fcsita.org
SUMMARY:Griddle Mysteries- Unwraping the Contruction and Operation of Flat Top Griddles
DESCRIPTION:Provided by AccuTemp Products\, Inc.\n1 CEU available \nFactory tour presentation. Adgenda will be griddle focused. Discussing the construction of different types of griddles\, how each operates and what electrification means for griddles gooing forward. Generic info not manufacturer specific. \nTo register\, contact John Pennington at jpennington@accutemp.net or 260-341-7726.
URL:https://fcsita.org/event/griddle-mysteries-unwraping-the-contruction-and-operation-of-flat-top-griddles/2025-07-15/
LOCATION:AccuTemp\, 11919 John Adams Drive\, New Haven\, IN\, 46774\, United States
CATEGORIES:EPP Flexible Date Events - TA
ORGANIZER;CN="john pennington":MAILTO:jpennington@accutemp.net
END:VEVENT
BEGIN:VEVENT
DTSTART;TZID=America/New_York:20250708T080000
DTEND;TZID=America/New_York:20250708T090000
DTSTAMP:20260422T215710
CREATED:20250513T163921Z
LAST-MODIFIED:20250513T163921Z
UID:10001013-1751961600-1751965200@fcsita.org
SUMMARY:Full Steam Ahead! The Physics and History of Steam\, Using Steam in Your Designs\, and Electrification
DESCRIPTION:Provided by AccuTemp Products Inc.\n1 CEU available \nFactory tour presentation. Adgenda will be steamer focused. Physics of how steam works in a steamer and in general\, how steam fits into new designs and what electrification means for steam. Generic info not manufacturer specific. \nTo register\, contact John Pennington at jpennington@accutemp.net or 260-341-7726.
URL:https://fcsita.org/event/full-steam-ahead-the-physics-and-history-of-steam-using-steam-in-your-designs-and-electrification/2025-07-08/
LOCATION:AccuTemp\, 11919 John Adams Drive\, New Haven\, IN\, 46774\, United States
CATEGORIES:EPP Flexible Date Events - TA
ORGANIZER;CN="john pennington":MAILTO:jpennington@accutemp.net
END:VEVENT
BEGIN:VEVENT
DTSTART;TZID=America/New_York:20250615T080000
DTEND;TZID=America/New_York:20250615T090000
DTSTAMP:20260422T215710
CREATED:20250513T161940Z
LAST-MODIFIED:20250513T164054Z
UID:10000987-1749974400-1749978000@fcsita.org
SUMMARY:Griddle Mysteries- Unwraping the Contruction and Operation of Flat Top Griddles
DESCRIPTION:Provided by AccuTemp Products\, Inc.\n1 CEU available \nFactory tour presentation. Adgenda will be griddle focused. Discussing the construction of different types of griddles\, how each operates and what electrification means for griddles gooing forward. Generic info not manufacturer specific. \nTo register\, contact John Pennington at jpennington@accutemp.net or 260-341-7726.
URL:https://fcsita.org/event/griddle-mysteries-unwraping-the-contruction-and-operation-of-flat-top-griddles/2025-06-15/
LOCATION:AccuTemp\, 11919 John Adams Drive\, New Haven\, IN\, 46774\, United States
CATEGORIES:EPP Flexible Date Events - TA
ORGANIZER;CN="john pennington":MAILTO:jpennington@accutemp.net
END:VEVENT
BEGIN:VEVENT
DTSTART;TZID=America/New_York:20250610T080000
DTEND;TZID=America/New_York:20250610T090000
DTSTAMP:20260422T215710
CREATED:20250513T163921Z
LAST-MODIFIED:20250513T163921Z
UID:10001012-1749542400-1749546000@fcsita.org
SUMMARY:Full Steam Ahead! The Physics and History of Steam\, Using Steam in Your Designs\, and Electrification
DESCRIPTION:Provided by AccuTemp Products Inc.\n1 CEU available \nFactory tour presentation. Adgenda will be steamer focused. Physics of how steam works in a steamer and in general\, how steam fits into new designs and what electrification means for steam. Generic info not manufacturer specific. \nTo register\, contact John Pennington at jpennington@accutemp.net or 260-341-7726.
URL:https://fcsita.org/event/full-steam-ahead-the-physics-and-history-of-steam-using-steam-in-your-designs-and-electrification/2025-06-10/
LOCATION:AccuTemp\, 11919 John Adams Drive\, New Haven\, IN\, 46774\, United States
CATEGORIES:EPP Flexible Date Events - TA
ORGANIZER;CN="john pennington":MAILTO:jpennington@accutemp.net
END:VEVENT
BEGIN:VEVENT
DTSTART;TZID=America/New_York:20250515T080000
DTEND;TZID=America/New_York:20250515T090000
DTSTAMP:20260422T215710
CREATED:20250513T161940Z
LAST-MODIFIED:20250513T164054Z
UID:10000986-1747296000-1747299600@fcsita.org
SUMMARY:Griddle Mysteries- Unwraping the Contruction and Operation of Flat Top Griddles
DESCRIPTION:Provided by AccuTemp Products\, Inc.\n1 CEU available \nFactory tour presentation. Adgenda will be griddle focused. Discussing the construction of different types of griddles\, how each operates and what electrification means for griddles gooing forward. Generic info not manufacturer specific. \nTo register\, contact John Pennington at jpennington@accutemp.net or 260-341-7726.
URL:https://fcsita.org/event/griddle-mysteries-unwraping-the-contruction-and-operation-of-flat-top-griddles/2025-05-15/
LOCATION:AccuTemp\, 11919 John Adams Drive\, New Haven\, IN\, 46774\, United States
CATEGORIES:EPP Flexible Date Events - TA
ORGANIZER;CN="john pennington":MAILTO:jpennington@accutemp.net
END:VEVENT
BEGIN:VEVENT
DTSTART;TZID=America/New_York:20250513T080000
DTEND;TZID=America/New_York:20250513T170000
DTSTAMP:20260422T215710
CREATED:20250513T163921Z
LAST-MODIFIED:20250513T163921Z
UID:10001011-1747123200-1747155600@fcsita.org
SUMMARY:Full Steam Ahead! The Physics and History of Steam\, Using Steam in Your Designs\, and Electrification
DESCRIPTION:Provided by AccuTemp Products Inc.\n1 CEU available \nFactory tour presentation. Adgenda will be steamer focused. Physics of how steam works in a steamer and in general\, how steam fits into new designs and what electrification means for steam. Generic info not manufacturer specific. \nTo register\, contact John Pennington at jpennington@accutemp.net or 260-341-7726.
URL:https://fcsita.org/event/full-steam-ahead-the-physics-and-history-of-steam-using-steam-in-your-designs-and-electrification/2025-05-13/
LOCATION:AccuTemp\, 11919 John Adams Drive\, New Haven\, IN\, 46774\, United States
CATEGORIES:EPP Flexible Date Events - TA
ORGANIZER;CN="john pennington":MAILTO:jpennington@accutemp.net
END:VEVENT
END:VCALENDAR