BEGIN:VCALENDAR
VERSION:2.0
PRODID:-//FCSI The Americas - ECPv6.15.20//NONSGML v1.0//EN
CALSCALE:GREGORIAN
METHOD:PUBLISH
X-ORIGINAL-URL:https://fcsita.org
X-WR-CALDESC:Events for FCSI The Americas
REFRESH-INTERVAL;VALUE=DURATION:PT1H
X-Robots-Tag:noindex
X-PUBLISHED-TTL:PT1H
BEGIN:VTIMEZONE
TZID:America/New_York
BEGIN:DAYLIGHT
TZOFFSETFROM:-0500
TZOFFSETTO:-0400
TZNAME:EDT
DTSTART:20240310T070000
END:DAYLIGHT
BEGIN:STANDARD
TZOFFSETFROM:-0400
TZOFFSETTO:-0500
TZNAME:EST
DTSTART:20241103T060000
END:STANDARD
BEGIN:DAYLIGHT
TZOFFSETFROM:-0500
TZOFFSETTO:-0400
TZNAME:EDT
DTSTART:20250309T070000
END:DAYLIGHT
BEGIN:STANDARD
TZOFFSETFROM:-0400
TZOFFSETTO:-0500
TZNAME:EST
DTSTART:20251102T060000
END:STANDARD
BEGIN:DAYLIGHT
TZOFFSETFROM:-0500
TZOFFSETTO:-0400
TZNAME:EDT
DTSTART:20260308T070000
END:DAYLIGHT
BEGIN:STANDARD
TZOFFSETFROM:-0400
TZOFFSETTO:-0500
TZNAME:EST
DTSTART:20261101T060000
END:STANDARD
END:VTIMEZONE
BEGIN:VEVENT
DTSTART;TZID=America/New_York:20251203T170000
DTEND;TZID=America/New_York:20251203T210000
DTSTAMP:20260423T085601
CREATED:20251024T181925Z
LAST-MODIFIED:20251024T181925Z
UID:10001208-1764781200-1764795600@fcsita.org
SUMMARY:NE Chapter Holiday Social
DESCRIPTION:Please join us at the 2025 Northeast Chapter Holiday Social!  The event will take place on Wednesday\, December 3\, 2025 at Davio’s\, 75 Arlington St\, Boston\, MAThe cost to attend is $175.00 per person.\nFor questions\, please contact Michele McDonaldTo purchase tickets\, visit https://fcsi.site-ym.com/store/viewproduct.aspx?id=26444070
URL:https://fcsita.org/event/ne-chapter-holiday-social/
LOCATION:Davios\, 75 Arlington St\, Boston\, MA
CATEGORIES:Chapter Events
END:VEVENT
END:VCALENDAR