BEGIN:VCALENDAR
VERSION:2.0
PRODID:-//FCSI The Americas - ECPv6.15.20//NONSGML v1.0//EN
CALSCALE:GREGORIAN
METHOD:PUBLISH
X-WR-CALNAME:FCSI The Americas
X-ORIGINAL-URL:https://fcsita.org
X-WR-CALDESC:Events for FCSI The Americas
REFRESH-INTERVAL;VALUE=DURATION:PT1H
X-Robots-Tag:noindex
X-PUBLISHED-TTL:PT1H
BEGIN:VTIMEZONE
TZID:America/New_York
BEGIN:DAYLIGHT
TZOFFSETFROM:-0500
TZOFFSETTO:-0400
TZNAME:EDT
DTSTART:20230312T070000
END:DAYLIGHT
BEGIN:STANDARD
TZOFFSETFROM:-0400
TZOFFSETTO:-0500
TZNAME:EST
DTSTART:20231105T060000
END:STANDARD
BEGIN:DAYLIGHT
TZOFFSETFROM:-0500
TZOFFSETTO:-0400
TZNAME:EDT
DTSTART:20240310T070000
END:DAYLIGHT
BEGIN:STANDARD
TZOFFSETFROM:-0400
TZOFFSETTO:-0500
TZNAME:EST
DTSTART:20241103T060000
END:STANDARD
BEGIN:DAYLIGHT
TZOFFSETFROM:-0500
TZOFFSETTO:-0400
TZNAME:EDT
DTSTART:20250309T070000
END:DAYLIGHT
BEGIN:STANDARD
TZOFFSETFROM:-0400
TZOFFSETTO:-0500
TZNAME:EST
DTSTART:20251102T060000
END:STANDARD
BEGIN:DAYLIGHT
TZOFFSETFROM:-0500
TZOFFSETTO:-0400
TZNAME:EDT
DTSTART:20260308T070000
END:DAYLIGHT
BEGIN:STANDARD
TZOFFSETFROM:-0400
TZOFFSETTO:-0500
TZNAME:EST
DTSTART:20261101T060000
END:STANDARD
END:VTIMEZONE
BEGIN:VEVENT
DTSTART;TZID=America/New_York:20250204T120000
DTEND;TZID=America/New_York:20250204T163000
DTSTAMP:20260423T064946
CREATED:20241126T214548Z
LAST-MODIFIED:20241202T154206Z
UID:10000413-1738670400-1738686600@fcsita.org
SUMMARY:BLEND - Where Commercial & Residential Design Meet
DESCRIPTION:Join the Middleby Commercial and Residential teams onsite at your local Middleby Showroom for an in-person\, experience-driven educational and interactive demonstration. \nThe education will dial in on various equipment integrations in Resi-Mercial™ applications\, including: Hotels\, Resorts\, Country Clubs\, Senior Living Facilities\, Welcome Centers\, Office Spaces\, Stadium or Entertainment Suites\, Travel or Executive Lounges\, Retail Spaces and many more! \nApproved for 4 CEUs \nREGISTER\nFor more information contact Meghan Daro\nmdaro@middleby.com\n610-8106038 \nAGENDA
URL:https://fcsita.org/event/blend-where-commercial-residential-design-meet/
LOCATION:Eaton Marketing\, 5325 115th Ave N\, Clearwater\, FL\, 33760\, United States
CATEGORIES:EPP Set Date Events - TA
ORGANIZER;CN="Meghan Daro":MAILTO:mdaro@middleby.com
END:VEVENT
BEGIN:VEVENT
DTSTART;TZID=America/New_York:20240306T120000
DTEND;TZID=America/New_York:20240306T170000
DTSTAMP:20260423T064946
CREATED:20240226T142901Z
LAST-MODIFIED:20240226T142901Z
UID:10000204-1709726400-1709744400@fcsita.org
SUMMARY:Crafting Profitable Bars: 2024 Drink Menu Trends and Impact on Design & Equipment Selection by Perlick
DESCRIPTION:PERLICK WEBINAR  \nCrafting Profitable Bars: 2024 Drink Menu Trends and Impact on Design & Equipment Selection \n  \nUncover the secret to greater profits in your bar – where innovation pours as much profit as creativity. Are your bar designs aligned with the dynamic landscape of today’s drink menu trends? \n  \nPerlick’s webinar will explore the ever-evolving world of bar menus – from cocktails to wines\, beers\, and non-alcoholic drinks. Dive into the latest trends shaping the drink space and discover how these trends\, alongside labor considerations\, significantly influence efficient bar design and equipment selection. Crafting an ergonomic\, well-organized\, bartender-centric design isn’t just an aesthetic choice; it’s critical for the financial success of restaurants and bars across all categories. \n  \nThis webinar will spotlight critical factors in designing a bar that empowers even novice bar staff to thrive\, delivering unparalleled hospitality and exceptional\, contemporary drink service. \n  \nCorrinne Walenda\, Perlick’s brand ambassador\, will navigate the landscape of drink trends\, and illustrate how to design labor-saving bar layouts and choose the right equipment packages that resonate with today’s and tomorrow’s bartenders.
URL:https://fcsita.org/event/crafting-profitable-bars-2024-drink-menu-trends-and-impact-on-design-equipment-selection-by-perlick/
LOCATION:Eaton Marketing\, 5325 115th Ave N\, Clearwater\, FL\, 33760\, United States
CATEGORIES:EPP Webinar - TA,EPP Your Place Event - TA
ORGANIZER;CN="Corrine Walenda - Perlick":MAILTO:Corrine.Walenda@Perlick.com
END:VEVENT
END:VCALENDAR