BEGIN:VCALENDAR
VERSION:2.0
PRODID:-//FCSI The Americas - ECPv6.15.20//NONSGML v1.0//EN
CALSCALE:GREGORIAN
METHOD:PUBLISH
X-WR-CALNAME:FCSI The Americas
X-ORIGINAL-URL:https://fcsita.org
X-WR-CALDESC:Events for FCSI The Americas
REFRESH-INTERVAL;VALUE=DURATION:PT1H
X-Robots-Tag:noindex
X-PUBLISHED-TTL:PT1H
BEGIN:VTIMEZONE
TZID:America/New_York
BEGIN:DAYLIGHT
TZOFFSETFROM:-0500
TZOFFSETTO:-0400
TZNAME:EDT
DTSTART:20240310T070000
END:DAYLIGHT
BEGIN:STANDARD
TZOFFSETFROM:-0400
TZOFFSETTO:-0500
TZNAME:EST
DTSTART:20241103T060000
END:STANDARD
BEGIN:DAYLIGHT
TZOFFSETFROM:-0500
TZOFFSETTO:-0400
TZNAME:EDT
DTSTART:20250309T070000
END:DAYLIGHT
BEGIN:STANDARD
TZOFFSETFROM:-0400
TZOFFSETTO:-0500
TZNAME:EST
DTSTART:20251102T060000
END:STANDARD
BEGIN:DAYLIGHT
TZOFFSETFROM:-0500
TZOFFSETTO:-0400
TZNAME:EDT
DTSTART:20260308T070000
END:DAYLIGHT
BEGIN:STANDARD
TZOFFSETFROM:-0400
TZOFFSETTO:-0500
TZNAME:EST
DTSTART:20261101T060000
END:STANDARD
END:VTIMEZONE
BEGIN:VEVENT
DTSTART;VALUE=DATE:20251202
DTEND;VALUE=DATE:20251206
DTSTAMP:20260423T121013
CREATED:20250820T140409Z
LAST-MODIFIED:20250820T140423Z
UID:10001159-1764633600-1764979199@fcsita.org
SUMMARY:Follett Factory & Product Training
DESCRIPTION:Provided by Middleby\n13 CEUs available\nDecember 2-5\, 2025 \nMiddleby invites you to experience the cleanest\, safest\, and smartest ice on the market! \nThis exclusive session is a focused factory training hosted by Follett Products\, where we’ll dive deep into everything nugget ice—from what makes it the consumer favorite to how it transforms operations in foodservice\, healthcare\, and workplace settings. \nHeld in the beautiful\, historic town of Bethlehem\, Pennsylvania\, this immersive event is specifically designed for design consultants who want to strengthen their understanding of Follett solutions and stay at the forefront of equipment innovation. \nCome see why nugget ice isn’t just a trend—it’s a category-defining standard. Become your client’s go-to expert on the industry’s cleanest\, safest\, and most beloved ice solution. \nFollett Factory Training Details and Registration Page – https://solutions.middleby.com/follett-factory-training-2025 \n 
URL:https://fcsita.org/event/follett-factory-product-training/
LOCATION:Follett Products LLC\, 801 Church Lane\, Easton\, PA
CATEGORIES:EPP Set Date Events - TA
ORGANIZER;CN="Meghan Daro":MAILTO:mdaro@middleby.com
END:VEVENT
END:VCALENDAR