BEGIN:VCALENDAR
VERSION:2.0
PRODID:-//FCSI The Americas - ECPv6.15.20//NONSGML v1.0//EN
CALSCALE:GREGORIAN
METHOD:PUBLISH
X-ORIGINAL-URL:https://fcsita.org
X-WR-CALDESC:Events for FCSI The Americas
REFRESH-INTERVAL;VALUE=DURATION:PT1H
X-Robots-Tag:noindex
X-PUBLISHED-TTL:PT1H
BEGIN:VTIMEZONE
TZID:America/New_York
BEGIN:DAYLIGHT
TZOFFSETFROM:-0500
TZOFFSETTO:-0400
TZNAME:EDT
DTSTART:20240310T070000
END:DAYLIGHT
BEGIN:STANDARD
TZOFFSETFROM:-0400
TZOFFSETTO:-0500
TZNAME:EST
DTSTART:20241103T060000
END:STANDARD
BEGIN:DAYLIGHT
TZOFFSETFROM:-0500
TZOFFSETTO:-0400
TZNAME:EDT
DTSTART:20250309T070000
END:DAYLIGHT
BEGIN:STANDARD
TZOFFSETFROM:-0400
TZOFFSETTO:-0500
TZNAME:EST
DTSTART:20251102T060000
END:STANDARD
BEGIN:DAYLIGHT
TZOFFSETFROM:-0500
TZOFFSETTO:-0400
TZNAME:EDT
DTSTART:20260308T070000
END:DAYLIGHT
BEGIN:STANDARD
TZOFFSETFROM:-0400
TZOFFSETTO:-0500
TZNAME:EST
DTSTART:20261101T060000
END:STANDARD
END:VTIMEZONE
BEGIN:VEVENT
DTSTART;TZID=America/New_York:20251104T150000
DTEND;TZID=America/New_York:20251105T200000
DTSTAMP:20260423T042629
CREATED:20250425T182513Z
LAST-MODIFIED:20250425T182513Z
UID:10000963-1762268400-1762372800@fcsita.org
SUMMARY:Fall 2025 FWE Consultant Seminar
DESCRIPTION:Provided by FWE / Food Warming Equipment Co. Inc.\n7.5 CEUs available \nLearning Objective:  Provide knowledge of various heating\, holding and transport systems to assist in designing future client projects.  We will review construction and design methods\, which will allow future FCSI clients to deliver meals efficiently\, safely and at top quality.  Categories that will be covered include Low Temperature Cooking\, Holding\, Serving Equipment\, Re-thermalizing Units\, Utility Transports\, Refrigeration\, as well as Portable Bars and Racks.  We will have an in-depth presentation on the benefits of electric smokers\, and how they can potentially increase revenue without the costly investment of traditional pit BBQ.  We will close the evening with a Chef hosted\, behind the scenes glimpse at Nashville’s hottest small batch bakery\, The Buttermilk Ranch\, where Executive Chef Alyssa Gangeri will discuss: What it means to be a small batch bakery\, what top issues are currently faced by the food service industry and how the right equipment can make or break a restaurant. \n  \nTo register\, contact Travis Hartley at t-hartley@fweco.net or 615-945-2221.
URL:https://fcsita.org/event/fall-2025-fwe-consultant-seminar/
LOCATION:Hyatt Place Nashville Downtown\, 301 3rd Avenue South\, Nashville\, TN
CATEGORIES:EPP Set Date Events - TA
ORGANIZER;CN="Travis Hartley":MAILTO:t-hartley@fweco.net
END:VEVENT
END:VCALENDAR