BEGIN:VCALENDAR
VERSION:2.0
PRODID:-//FCSI The Americas - ECPv6.15.20//NONSGML v1.0//EN
CALSCALE:GREGORIAN
METHOD:PUBLISH
X-WR-CALNAME:FCSI The Americas
X-ORIGINAL-URL:https://fcsita.org
X-WR-CALDESC:Events for FCSI The Americas
REFRESH-INTERVAL;VALUE=DURATION:PT1H
X-Robots-Tag:noindex
X-PUBLISHED-TTL:PT1H
BEGIN:VTIMEZONE
TZID:America/New_York
BEGIN:DAYLIGHT
TZOFFSETFROM:-0500
TZOFFSETTO:-0400
TZNAME:EDT
DTSTART:20240310T070000
END:DAYLIGHT
BEGIN:STANDARD
TZOFFSETFROM:-0400
TZOFFSETTO:-0500
TZNAME:EST
DTSTART:20241103T060000
END:STANDARD
BEGIN:DAYLIGHT
TZOFFSETFROM:-0500
TZOFFSETTO:-0400
TZNAME:EDT
DTSTART:20250309T070000
END:DAYLIGHT
BEGIN:STANDARD
TZOFFSETFROM:-0400
TZOFFSETTO:-0500
TZNAME:EST
DTSTART:20251102T060000
END:STANDARD
BEGIN:DAYLIGHT
TZOFFSETFROM:-0500
TZOFFSETTO:-0400
TZNAME:EDT
DTSTART:20260308T070000
END:DAYLIGHT
BEGIN:STANDARD
TZOFFSETFROM:-0400
TZOFFSETTO:-0500
TZNAME:EST
DTSTART:20261101T060000
END:STANDARD
BEGIN:DAYLIGHT
TZOFFSETFROM:-0500
TZOFFSETTO:-0400
TZNAME:EDT
DTSTART:20270314T070000
END:DAYLIGHT
BEGIN:STANDARD
TZOFFSETFROM:-0400
TZOFFSETTO:-0500
TZNAME:EST
DTSTART:20271107T060000
END:STANDARD
END:VTIMEZONE
BEGIN:VEVENT
DTSTART;TZID=America/New_York:20260415T080000
DTEND;TZID=America/New_York:20260415T090000
DTSTAMP:20260423T001354
CREATED:20250702T204201Z
LAST-MODIFIED:20250702T205114Z
UID:10001152-1776240000-1776243600@fcsita.org
SUMMARY:(On-Demand) 10 Trends Shaping the 2025 (and Beyond) Drinks Space — and What That Means for Bar Design and Equipment Specification
DESCRIPTION:Provided by Perlick\n1 CEU available\nEither In-Person or Virtual \nCorrinne Walenda offers a glimpse into the future of beverage service with this fast-paced session exploring 10 emerging trends redefining the drinks landscape in 2025 and beyond.\nFrom the rise of botanical beverages and boundary-pushing martinis to the return of maximalism\, theatrical bartending\, and the growing demand for sophisticated low- and no-alcohol cocktails — this class unpacks what’s driving consumer tastes and how bars must evolve in response. \nWe’ll connect these trends to practical implications for bar layout\, equipment selection\, and operational flow\, offering actionable takeaways for foodservice design consultants and their architects and clients.\nIdeal for:  Foodservice design consultants\, F&B directors\, architects\,interior designers\, equipment specifiers\, and anyone shaping the future of hospitality spaces. \nTo schedule\, contact Corrinne Walenda at corrinne.walenda@perlick.com or 414-399-8859.
URL:https://fcsita.org/event/10-trends-shaping-the-2025-and-beyond-drinks-space-and-what-that-means-for-bar-design-and-equipment-specification/2026-04-15/
LOCATION:In-Person or Virtual
CATEGORIES:EPP Flexible Date Events - TA,EPP Webinar - TA
ORGANIZER;CN="Corrine Walenda - Perlick":MAILTO:Corrine.Walenda@Perlick.com
END:VEVENT
BEGIN:VEVENT
DTSTART;TZID=America/New_York:20260315T080000
DTEND;TZID=America/New_York:20260315T090000
DTSTAMP:20260423T001354
CREATED:20250702T204201Z
LAST-MODIFIED:20250702T205114Z
UID:10001151-1773561600-1773565200@fcsita.org
SUMMARY:(On-Demand) 10 Trends Shaping the 2025 (and Beyond) Drinks Space — and What That Means for Bar Design and Equipment Specification
DESCRIPTION:Provided by Perlick\n1 CEU available\nEither In-Person or Virtual \nCorrinne Walenda offers a glimpse into the future of beverage service with this fast-paced session exploring 10 emerging trends redefining the drinks landscape in 2025 and beyond.\nFrom the rise of botanical beverages and boundary-pushing martinis to the return of maximalism\, theatrical bartending\, and the growing demand for sophisticated low- and no-alcohol cocktails — this class unpacks what’s driving consumer tastes and how bars must evolve in response. \nWe’ll connect these trends to practical implications for bar layout\, equipment selection\, and operational flow\, offering actionable takeaways for foodservice design consultants and their architects and clients.\nIdeal for:  Foodservice design consultants\, F&B directors\, architects\,interior designers\, equipment specifiers\, and anyone shaping the future of hospitality spaces. \nTo schedule\, contact Corrinne Walenda at corrinne.walenda@perlick.com or 414-399-8859.
URL:https://fcsita.org/event/10-trends-shaping-the-2025-and-beyond-drinks-space-and-what-that-means-for-bar-design-and-equipment-specification/2026-03-15/
LOCATION:In-Person or Virtual
CATEGORIES:EPP Flexible Date Events - TA,EPP Webinar - TA
ORGANIZER;CN="Corrine Walenda - Perlick":MAILTO:Corrine.Walenda@Perlick.com
END:VEVENT
BEGIN:VEVENT
DTSTART;TZID=America/New_York:20260215T080000
DTEND;TZID=America/New_York:20260215T090000
DTSTAMP:20260423T001354
CREATED:20250702T204201Z
LAST-MODIFIED:20250702T205114Z
UID:10001150-1771142400-1771146000@fcsita.org
SUMMARY:(On-Demand) 10 Trends Shaping the 2025 (and Beyond) Drinks Space — and What That Means for Bar Design and Equipment Specification
DESCRIPTION:Provided by Perlick\n1 CEU available\nEither In-Person or Virtual \nCorrinne Walenda offers a glimpse into the future of beverage service with this fast-paced session exploring 10 emerging trends redefining the drinks landscape in 2025 and beyond.\nFrom the rise of botanical beverages and boundary-pushing martinis to the return of maximalism\, theatrical bartending\, and the growing demand for sophisticated low- and no-alcohol cocktails — this class unpacks what’s driving consumer tastes and how bars must evolve in response. \nWe’ll connect these trends to practical implications for bar layout\, equipment selection\, and operational flow\, offering actionable takeaways for foodservice design consultants and their architects and clients.\nIdeal for:  Foodservice design consultants\, F&B directors\, architects\,interior designers\, equipment specifiers\, and anyone shaping the future of hospitality spaces. \nTo schedule\, contact Corrinne Walenda at corrinne.walenda@perlick.com or 414-399-8859.
URL:https://fcsita.org/event/10-trends-shaping-the-2025-and-beyond-drinks-space-and-what-that-means-for-bar-design-and-equipment-specification/2026-02-15/
LOCATION:In-Person or Virtual
CATEGORIES:EPP Flexible Date Events - TA,EPP Webinar - TA
ORGANIZER;CN="Corrine Walenda - Perlick":MAILTO:Corrine.Walenda@Perlick.com
END:VEVENT
BEGIN:VEVENT
DTSTART;TZID=America/New_York:20260115T080000
DTEND;TZID=America/New_York:20260115T090000
DTSTAMP:20260423T001354
CREATED:20250702T204201Z
LAST-MODIFIED:20250702T205114Z
UID:10001149-1768464000-1768467600@fcsita.org
SUMMARY:(On-Demand) 10 Trends Shaping the 2025 (and Beyond) Drinks Space — and What That Means for Bar Design and Equipment Specification
DESCRIPTION:Provided by Perlick\n1 CEU available\nEither In-Person or Virtual \nCorrinne Walenda offers a glimpse into the future of beverage service with this fast-paced session exploring 10 emerging trends redefining the drinks landscape in 2025 and beyond.\nFrom the rise of botanical beverages and boundary-pushing martinis to the return of maximalism\, theatrical bartending\, and the growing demand for sophisticated low- and no-alcohol cocktails — this class unpacks what’s driving consumer tastes and how bars must evolve in response. \nWe’ll connect these trends to practical implications for bar layout\, equipment selection\, and operational flow\, offering actionable takeaways for foodservice design consultants and their architects and clients.\nIdeal for:  Foodservice design consultants\, F&B directors\, architects\,interior designers\, equipment specifiers\, and anyone shaping the future of hospitality spaces. \nTo schedule\, contact Corrinne Walenda at corrinne.walenda@perlick.com or 414-399-8859.
URL:https://fcsita.org/event/10-trends-shaping-the-2025-and-beyond-drinks-space-and-what-that-means-for-bar-design-and-equipment-specification/2026-01-15/
LOCATION:In-Person or Virtual
CATEGORIES:EPP Flexible Date Events - TA,EPP Webinar - TA
ORGANIZER;CN="Corrine Walenda - Perlick":MAILTO:Corrine.Walenda@Perlick.com
END:VEVENT
BEGIN:VEVENT
DTSTART;TZID=America/New_York:20251215T080000
DTEND;TZID=America/New_York:20251215T090000
DTSTAMP:20260423T001354
CREATED:20250702T204201Z
LAST-MODIFIED:20250702T205114Z
UID:10001148-1765785600-1765789200@fcsita.org
SUMMARY:(On-Demand) 10 Trends Shaping the 2025 (and Beyond) Drinks Space — and What That Means for Bar Design and Equipment Specification
DESCRIPTION:Provided by Perlick\n1 CEU available\nEither In-Person or Virtual \nCorrinne Walenda offers a glimpse into the future of beverage service with this fast-paced session exploring 10 emerging trends redefining the drinks landscape in 2025 and beyond.\nFrom the rise of botanical beverages and boundary-pushing martinis to the return of maximalism\, theatrical bartending\, and the growing demand for sophisticated low- and no-alcohol cocktails — this class unpacks what’s driving consumer tastes and how bars must evolve in response. \nWe’ll connect these trends to practical implications for bar layout\, equipment selection\, and operational flow\, offering actionable takeaways for foodservice design consultants and their architects and clients.\nIdeal for:  Foodservice design consultants\, F&B directors\, architects\,interior designers\, equipment specifiers\, and anyone shaping the future of hospitality spaces. \nTo schedule\, contact Corrinne Walenda at corrinne.walenda@perlick.com or 414-399-8859.
URL:https://fcsita.org/event/10-trends-shaping-the-2025-and-beyond-drinks-space-and-what-that-means-for-bar-design-and-equipment-specification/2025-12-15/
LOCATION:In-Person or Virtual
CATEGORIES:EPP Flexible Date Events - TA,EPP Webinar - TA
ORGANIZER;CN="Corrine Walenda - Perlick":MAILTO:Corrine.Walenda@Perlick.com
END:VEVENT
BEGIN:VEVENT
DTSTART;TZID=America/New_York:20251115T080000
DTEND;TZID=America/New_York:20251115T090000
DTSTAMP:20260423T001354
CREATED:20250702T204201Z
LAST-MODIFIED:20250702T205114Z
UID:10001147-1763193600-1763197200@fcsita.org
SUMMARY:(On-Demand) 10 Trends Shaping the 2025 (and Beyond) Drinks Space — and What That Means for Bar Design and Equipment Specification
DESCRIPTION:Provided by Perlick\n1 CEU available\nEither In-Person or Virtual \nCorrinne Walenda offers a glimpse into the future of beverage service with this fast-paced session exploring 10 emerging trends redefining the drinks landscape in 2025 and beyond.\nFrom the rise of botanical beverages and boundary-pushing martinis to the return of maximalism\, theatrical bartending\, and the growing demand for sophisticated low- and no-alcohol cocktails — this class unpacks what’s driving consumer tastes and how bars must evolve in response. \nWe’ll connect these trends to practical implications for bar layout\, equipment selection\, and operational flow\, offering actionable takeaways for foodservice design consultants and their architects and clients.\nIdeal for:  Foodservice design consultants\, F&B directors\, architects\,interior designers\, equipment specifiers\, and anyone shaping the future of hospitality spaces. \nTo schedule\, contact Corrinne Walenda at corrinne.walenda@perlick.com or 414-399-8859.
URL:https://fcsita.org/event/10-trends-shaping-the-2025-and-beyond-drinks-space-and-what-that-means-for-bar-design-and-equipment-specification/2025-11-15/
LOCATION:In-Person or Virtual
CATEGORIES:EPP Flexible Date Events - TA,EPP Webinar - TA
ORGANIZER;CN="Corrine Walenda - Perlick":MAILTO:Corrine.Walenda@Perlick.com
END:VEVENT
BEGIN:VEVENT
DTSTART;TZID=America/New_York:20251015T080000
DTEND;TZID=America/New_York:20251015T090000
DTSTAMP:20260423T001354
CREATED:20250702T204201Z
LAST-MODIFIED:20250702T205114Z
UID:10001146-1760515200-1760518800@fcsita.org
SUMMARY:(On-Demand) 10 Trends Shaping the 2025 (and Beyond) Drinks Space — and What That Means for Bar Design and Equipment Specification
DESCRIPTION:Provided by Perlick\n1 CEU available\nEither In-Person or Virtual \nCorrinne Walenda offers a glimpse into the future of beverage service with this fast-paced session exploring 10 emerging trends redefining the drinks landscape in 2025 and beyond.\nFrom the rise of botanical beverages and boundary-pushing martinis to the return of maximalism\, theatrical bartending\, and the growing demand for sophisticated low- and no-alcohol cocktails — this class unpacks what’s driving consumer tastes and how bars must evolve in response. \nWe’ll connect these trends to practical implications for bar layout\, equipment selection\, and operational flow\, offering actionable takeaways for foodservice design consultants and their architects and clients.\nIdeal for:  Foodservice design consultants\, F&B directors\, architects\,interior designers\, equipment specifiers\, and anyone shaping the future of hospitality spaces. \nTo schedule\, contact Corrinne Walenda at corrinne.walenda@perlick.com or 414-399-8859.
URL:https://fcsita.org/event/10-trends-shaping-the-2025-and-beyond-drinks-space-and-what-that-means-for-bar-design-and-equipment-specification/2025-10-15/
LOCATION:In-Person or Virtual
CATEGORIES:EPP Flexible Date Events - TA,EPP Webinar - TA
ORGANIZER;CN="Corrine Walenda - Perlick":MAILTO:Corrine.Walenda@Perlick.com
END:VEVENT
BEGIN:VEVENT
DTSTART;TZID=America/New_York:20250915T080000
DTEND;TZID=America/New_York:20250915T090000
DTSTAMP:20260423T001354
CREATED:20250702T204201Z
LAST-MODIFIED:20250702T205114Z
UID:10001145-1757923200-1757926800@fcsita.org
SUMMARY:(On-Demand) 10 Trends Shaping the 2025 (and Beyond) Drinks Space — and What That Means for Bar Design and Equipment Specification
DESCRIPTION:Provided by Perlick\n1 CEU available\nEither In-Person or Virtual \nCorrinne Walenda offers a glimpse into the future of beverage service with this fast-paced session exploring 10 emerging trends redefining the drinks landscape in 2025 and beyond.\nFrom the rise of botanical beverages and boundary-pushing martinis to the return of maximalism\, theatrical bartending\, and the growing demand for sophisticated low- and no-alcohol cocktails — this class unpacks what’s driving consumer tastes and how bars must evolve in response. \nWe’ll connect these trends to practical implications for bar layout\, equipment selection\, and operational flow\, offering actionable takeaways for foodservice design consultants and their architects and clients.\nIdeal for:  Foodservice design consultants\, F&B directors\, architects\,interior designers\, equipment specifiers\, and anyone shaping the future of hospitality spaces. \nTo schedule\, contact Corrinne Walenda at corrinne.walenda@perlick.com or 414-399-8859.
URL:https://fcsita.org/event/10-trends-shaping-the-2025-and-beyond-drinks-space-and-what-that-means-for-bar-design-and-equipment-specification/2025-09-15/
LOCATION:In-Person or Virtual
CATEGORIES:EPP Flexible Date Events - TA,EPP Webinar - TA
ORGANIZER;CN="Corrine Walenda - Perlick":MAILTO:Corrine.Walenda@Perlick.com
END:VEVENT
BEGIN:VEVENT
DTSTART;TZID=America/New_York:20250815T080000
DTEND;TZID=America/New_York:20250815T090000
DTSTAMP:20260423T001354
CREATED:20250702T204201Z
LAST-MODIFIED:20250702T205114Z
UID:10001144-1755244800-1755248400@fcsita.org
SUMMARY:(On-Demand) 10 Trends Shaping the 2025 (and Beyond) Drinks Space — and What That Means for Bar Design and Equipment Specification
DESCRIPTION:Provided by Perlick\n1 CEU available\nEither In-Person or Virtual \nCorrinne Walenda offers a glimpse into the future of beverage service with this fast-paced session exploring 10 emerging trends redefining the drinks landscape in 2025 and beyond.\nFrom the rise of botanical beverages and boundary-pushing martinis to the return of maximalism\, theatrical bartending\, and the growing demand for sophisticated low- and no-alcohol cocktails — this class unpacks what’s driving consumer tastes and how bars must evolve in response. \nWe’ll connect these trends to practical implications for bar layout\, equipment selection\, and operational flow\, offering actionable takeaways for foodservice design consultants and their architects and clients.\nIdeal for:  Foodservice design consultants\, F&B directors\, architects\,interior designers\, equipment specifiers\, and anyone shaping the future of hospitality spaces. \nTo schedule\, contact Corrinne Walenda at corrinne.walenda@perlick.com or 414-399-8859.
URL:https://fcsita.org/event/10-trends-shaping-the-2025-and-beyond-drinks-space-and-what-that-means-for-bar-design-and-equipment-specification/2025-08-15/
LOCATION:In-Person or Virtual
CATEGORIES:EPP Flexible Date Events - TA,EPP Webinar - TA
ORGANIZER;CN="Corrine Walenda - Perlick":MAILTO:Corrine.Walenda@Perlick.com
END:VEVENT
BEGIN:VEVENT
DTSTART;TZID=America/New_York:20250715T080000
DTEND;TZID=America/New_York:20250715T090000
DTSTAMP:20260423T001354
CREATED:20250702T204201Z
LAST-MODIFIED:20250702T205114Z
UID:10001143-1752566400-1752570000@fcsita.org
SUMMARY:(On-Demand) 10 Trends Shaping the 2025 (and Beyond) Drinks Space — and What That Means for Bar Design and Equipment Specification
DESCRIPTION:Provided by Perlick\n1 CEU available\nEither In-Person or Virtual \nCorrinne Walenda offers a glimpse into the future of beverage service with this fast-paced session exploring 10 emerging trends redefining the drinks landscape in 2025 and beyond.\nFrom the rise of botanical beverages and boundary-pushing martinis to the return of maximalism\, theatrical bartending\, and the growing demand for sophisticated low- and no-alcohol cocktails — this class unpacks what’s driving consumer tastes and how bars must evolve in response. \nWe’ll connect these trends to practical implications for bar layout\, equipment selection\, and operational flow\, offering actionable takeaways for foodservice design consultants and their architects and clients.\nIdeal for:  Foodservice design consultants\, F&B directors\, architects\,interior designers\, equipment specifiers\, and anyone shaping the future of hospitality spaces. \nTo schedule\, contact Corrinne Walenda at corrinne.walenda@perlick.com or 414-399-8859.
URL:https://fcsita.org/event/10-trends-shaping-the-2025-and-beyond-drinks-space-and-what-that-means-for-bar-design-and-equipment-specification/2025-07-15/
LOCATION:In-Person or Virtual
CATEGORIES:EPP Flexible Date Events - TA,EPP Webinar - TA
ORGANIZER;CN="Corrine Walenda - Perlick":MAILTO:Corrine.Walenda@Perlick.com
END:VEVENT
END:VCALENDAR