BEGIN:VCALENDAR
VERSION:2.0
PRODID:-//FCSI The Americas - ECPv6.15.20//NONSGML v1.0//EN
CALSCALE:GREGORIAN
METHOD:PUBLISH
X-ORIGINAL-URL:https://fcsita.org
X-WR-CALDESC:Events for FCSI The Americas
REFRESH-INTERVAL;VALUE=DURATION:PT1H
X-Robots-Tag:noindex
X-PUBLISHED-TTL:PT1H
BEGIN:VTIMEZONE
TZID:America/New_York
BEGIN:DAYLIGHT
TZOFFSETFROM:-0500
TZOFFSETTO:-0400
TZNAME:EDT
DTSTART:20240310T070000
END:DAYLIGHT
BEGIN:STANDARD
TZOFFSETFROM:-0400
TZOFFSETTO:-0500
TZNAME:EST
DTSTART:20241103T060000
END:STANDARD
BEGIN:DAYLIGHT
TZOFFSETFROM:-0500
TZOFFSETTO:-0400
TZNAME:EDT
DTSTART:20250309T070000
END:DAYLIGHT
BEGIN:STANDARD
TZOFFSETFROM:-0400
TZOFFSETTO:-0500
TZNAME:EST
DTSTART:20251102T060000
END:STANDARD
BEGIN:DAYLIGHT
TZOFFSETFROM:-0500
TZOFFSETTO:-0400
TZNAME:EDT
DTSTART:20260308T070000
END:DAYLIGHT
BEGIN:STANDARD
TZOFFSETFROM:-0400
TZOFFSETTO:-0500
TZNAME:EST
DTSTART:20261101T060000
END:STANDARD
END:VTIMEZONE
BEGIN:VEVENT
DTSTART;TZID=America/New_York:20250716T080000
DTEND;TZID=America/New_York:20250716T170000
DTSTAMP:20260423T105653
CREATED:20250207T201554Z
LAST-MODIFIED:20250207T201554Z
UID:10000800-1752652800-1752685200@fcsita.org
SUMMARY:Welbilt Brands 2025 Roadshow
DESCRIPTION:3 CEUs available \nAgenda: \nEach roadshow event will last three hours\, covering all ten attending brands.  During the event\, each brand will present its latest innovations and discuss industry trends\, including: \n\nVentless applications\nSustainability\nElectrification\nKitchens\, and more\n\nTo register\, contact Jeremy Strege at 727-946-3363 or jeremy.strege@welbilt.com 
URL:https://fcsita.org/event/welbilt-brands-2025-roadshow-2/
LOCATION:Zink Foodservice\, 655 Dearborn Park Lane\, Columbus\, OH\, 43085
CATEGORIES:EPP Set Date Events - TA
ORGANIZER;CN="Jeremy Strege":MAILTO:jeremy.strege@welbilt.com
END:VEVENT
END:VCALENDAR